BEGIN:VCALENDAR
VERSION:2.0
PRODID:-//wp-events-plugin.com//7.2.3.1//EN
TZID:America/New_York
X-WR-TIMEZONE:America/New_York
BEGIN:VEVENT
UID:1305@breathemiami.us
DTSTART;TZID=America/New_York:20250402T190000
DTEND;TZID=America/New_York:20250402T194500
DTSTAMP:20250401T184337Z
URL:https://breathemiami.us/events/miami-padel-league-stretch-watch-vibe/
SUMMARY:Miami Padel League: Stretch\, Watch\, Vibe
DESCRIPTION:The Miami Padel League is back this Wednesday at Reserve Seapla
 ne Base—and we’re opening the match night with a special sunset yoga s
 ession on the waterfront.\n\n&nbsp\;\n\n\n\n&nbsp\;\n\n\n\n\n\n\n\n\n\n\nV
 iew this post on Instagram\n\n\n\n\n\n\n\n\n\n\n\n\n\n\n\n\n\n\n\n\n\n\n&n
 bsp\;\nA post shared by 8 Sleep Miami Padel League (@miami_padel_league)\n
 \n\n\n\n&nbsp\;\n\n🧘‍♀️ Yoga from 7:00–7:45PM Led by Rachel L
 ynn\, this class is free for the first 20 to sign up.\n\n&nbsp\;\n\n\n\n&n
 bsp\;\n\n\n\n\n\n\n\n\n\n\nView this post on Instagram\n\n\n\n\n\n\n\n\n\n
 \n\n\n\n\n\n\n\n\n\n\n\n\n&nbsp\;\nA post shared by SOL YOGA (@solyogaflor
 ida)\n\n\n&nbsp\;\n\n🍸 Stay after to catch the matches courtside with g
 ood vibes\, food\, and drinks—exclusively for yoga participants.\nCome f
 or the flow\, stay for the showdown.\n\nReserve Padel at Seaplane Base\, M
 iami Seaplane Base\, 1000 MacArthur Cswy\, Miami\, FL 33132\n\nMiami 
 🎟️ RSVP now—spots are limited!
ATTACH;FMTTYPE=image/jpeg:https://breathemiami.us/wp-content/uploads/2025/
 04/Miami-Padel-League-Yoga.png
CATEGORIES:Featured Events,Things To Do,Yoga Events
LOCATION:Reserve Padel Miami\, Miami Seaplane Base\, 1000 MacArthur Cswy\, 
 Miami\, FL 33132\, Miami\, Florida\, 33132\, United States
X-APPLE-STRUCTURED-LOCATION;VALUE=URI;X-ADDRESS=Miami Seaplane Base\, 1000 
 MacArthur Cswy\, Miami\, FL 33132\, Miami\, Florida\, 33132\, United State
 s;X-APPLE-RADIUS=100;X-TITLE=Reserve Padel Miami:geo:0,0
END:VEVENT
BEGIN:VTIMEZONE
TZID:America/New_York
X-LIC-LOCATION:America/New_York
BEGIN:DAYLIGHT
DTSTART:20250309T030000
TZOFFSETFROM:-0500
TZOFFSETTO:-0400
TZNAME:EDT
END:DAYLIGHT
END:VTIMEZONE
END:VCALENDAR