BEGIN:VCALENDAR
VERSION:2.0
PRODID:-//wp-events-plugin.com//7.2.3.1//EN
TZID:America/New_York
X-WR-TIMEZONE:America/New_York
BEGIN:VEVENT
UID:237@breathemiami.us
DTSTART;TZID=America/New_York:20231210T170000
DTEND;TZID=America/New_York:20231210T200000
DTSTAMP:20240908T113456Z
URL:https://breathemiami.us/events/miami-om-chanting/
SUMMARY:MIAMI OM CHANTING
DESCRIPTION:Event Information:\n\nPrepare for a transformative experience a
 s you immerse yourself in the resonant and calming vibrations of OM chanti
 ng. Join us at Miami's most tranquil gathering\, where the collective ener
 gy harmonizes to create a serene and uplifting atmosphere. Get ready to em
 bark on a journey of inner exploration and connection\, as the soothing to
 nes of OM guide us towards a profound sense of peace and unity. This event
  promises to be a unique opportunity to harmonize energies\, fostering a c
 ollective vibration of tranquility that resonates within each participant.
  Join us in this extraordinary experience\, where the power of OM chanting
  becomes a gateway to serenity and shared spiritual elevation.\n\nDate and
  Time:Sunday\, December 10 · 5 - 8pm EST\n\nAbout this event:\n\n 	Elevat
 e your spiritual experience as we unite in the harmonious practice of OM c
 hanting at Miami's tranquil gathering. Immerse yourself in the serene vibr
 ations\, where collective energies converge to create a space of tranquili
 ty and connection. Join us in this soulful journey as we explore the profo
 und resonance of OM\, fostering a sense of inner peace and community harmo
 ny.\n\nDuration: 3 hour\n\nTicket Information:\n\n 	[Include details about
  ticket pricing\, availability\, and how to purchase.]\n\n\nGET TICKETS\n\
 n\nWorkout Session Details:\n\n 	Activity: OM chanting\n 	Focus: Harmonizi
 ng energies\, promoting inner peace\, and community connection.\n\nEssenti
 als to Bring:\n\n 	Comfortable clothing\n 	Yoga mat or cushion for seating
 \n 	Open heart and mind for a transformative experience\n\nParking Options
 :\n\n 	Ample parking available at The Movement Oasis Homestead.\n
ATTACH;FMTTYPE=image/jpeg:https://breathemiami.us/wp-content/uploads/2023/
 12/https___cdn.evbuc_.com_images_644748849_212891814517_1_original.jpg
CATEGORIES:Wellness Events,Yoga Events
LOCATION:The Movement Oasis Homestead\, 24350 SW 147th Ave Homestead\, FL 3
 3032\, Miami\, United States\,  33032\,  FL \, United States
X-APPLE-STRUCTURED-LOCATION;VALUE=URI;X-ADDRESS=24350 SW 147th Ave Homestea
 d\, FL 33032\, Miami\, United States\,  33032\,  FL \, United States;X-APP
 LE-RADIUS=100;X-TITLE=The Movement Oasis Homestead:geo:0,0
END:VEVENT
BEGIN:VTIMEZONE
TZID:America/New_York
X-LIC-LOCATION:America/New_York
BEGIN:STANDARD
DTSTART:20231105T010000
TZOFFSETFROM:-0400
TZOFFSETTO:-0500
TZNAME:EST
END:STANDARD
END:VTIMEZONE
END:VCALENDAR