BEGIN:VCALENDAR
VERSION:2.0
PRODID:-//wp-events-plugin.com//7.2.3.1//EN
TZID:America/New_York
X-WR-TIMEZONE:America/New_York
BEGIN:VEVENT
UID:652@breathemiami.us
DTSTART;TZID=America/New_York:20240810T100000
DTEND;TZID=America/New_York:20240810T120000
DTSTAMP:20240803T050539Z
URL:https://breathemiami.us/events/miami-kukuwa-african-dance-workshop/
SUMMARY:Miami Kukuwa African Dance Workshop
DESCRIPTION:Prepare to dance your way to fitness at the vibrant Kukuwa Afri
 can Dance Workout in Miami on August 10th! This exhilarating event offers 
 a unique opportunity to experience the energy and joy of African dance whi
 le enjoying a high-energy workout. Join us for a day packed with live musi
 c\, a live recording session\, and fantastic free giveaways. This is an ev
 ent you won't want to miss!\nEvent Highlights:\n\n 	Live DJ and Music: Gro
 ove to the beats with a live DJ.\n 	Live Recording: Participate in an exci
 ting live recording session.\n 	Free Giveaways: Enjoy exclusive freebies a
 nd surprises.\n 	Expert Instructors: Learn from top African dance instruct
 ors.\n 	High-Energy Workout: Burn calories and have fun with every move.\n
 \nThe talented DJ will transport participants through different parts of A
 frica with an eclectic mix of music\, offering a journey through the conti
 nent's diverse cultures. From the energetic rhythms of West Africa's Djemb
 e drumming to the vibrant sounds of East Africa's traditional melodies\, a
 ttendees will experience a variety of dances and musical styles. Let the m
 usic guide you as you learn dances from different regions\, each with its 
 own unique flavor and history.\n\nDon't miss out on this unforgettable day
  of fitness\, fun\, and cultural exploration. Secure your spot today and g
 et ready to move\, groove\, and make lasting memories at the Miami Kukuwa 
 African Dance Workshop!\n\nGET TICKETS\n
ATTACH;FMTTYPE=image/jpeg:https://breathemiami.us/wp-content/uploads/2024/
 08/Miami-Kukuwa-African-Dance-Workshop.jpg
CATEGORIES:Mindfulness Events,Things To Do,Wellness Events
LOCATION:The Peacemaker Studio\, 8100 SW 81st Dr\, Miami\, Fl\, 33143\, Uni
 ted States
X-APPLE-STRUCTURED-LOCATION;VALUE=URI;X-ADDRESS=8100 SW 81st Dr\, Miami\, F
 l\, 33143\, United States;X-APPLE-RADIUS=100;X-TITLE=The Peacemaker Studio
 :geo:0,0
END:VEVENT
BEGIN:VTIMEZONE
TZID:America/New_York
X-LIC-LOCATION:America/New_York
BEGIN:DAYLIGHT
DTSTART:20240310T030000
TZOFFSETFROM:-0500
TZOFFSETTO:-0400
TZNAME:EDT
END:DAYLIGHT
END:VTIMEZONE
END:VCALENDAR