BEGIN:VCALENDAR
VERSION:2.0
PRODID:-//wp-events-plugin.com//7.2.3.1//EN
TZID:America/New_York
X-WR-TIMEZONE:America/New_York
BEGIN:VEVENT
UID:1018@breathemiami.us
DTSTART;TZID=America/New_York:20241104T110000
DTEND;TZID=America/New_York:20241104T140000
DTSTAMP:20241006T165101Z
URL:https://breathemiami.us/events/miami-gardens-professional-teeth-whiten
 ing-certification-training/
SUMMARY:Miami Garden's Professional Teeth Whitening Certification Training
DESCRIPTION:Elevate your beauty business by acquiring professional teeth wh
 itening training and certification! This is an excellent opportunity to in
 troduce a high-demand service that can significantly increase your income.
  Teeth whitening is one of the most sought-after cosmetic treatments\, and
  there has never been a better time to incorporate this lucrative service 
 into your new or existing business.\n\nThe Charmayne Perfection LLC Teeth 
 Whitening Training and Certification Program equips participants with all 
 the necessary skills to become certified teeth whitening specialists\, ult
 imately helping them attract a broader client base.\n\nCourse Details:\n\n
  	Format: This is a one-day\, intensive beginner class.\n 	Duration: A sin
 gle in-person session designed for newcomers (no prior experience is requi
 red).\n 	Highlights:\n\n 	Model Demonstration: Participants will witness a
  live demonstration of the teeth whitening process\, enhancing their under
 standing.\n 	Vendor List: Attendees will receive a comprehensive list of v
 endors for purchasing all necessary supplies\, ensuring they have everythi
 ng they need to get started.\n 	Certification: Upon completion of the clas
 s\, participants will receive a Certificate of Completion\, validating the
 ir new skills and knowledge.\n 	Ongoing Support: Continuous support will b
 e available even after the class\, ensuring participants feel confident an
 d well-prepared as they embark on their teeth whitening journey.\n\n\n\nTh
 is training program is an investment in your professional development\, al
 lowing you to stand out in the competitive beauty industry. Join today and
  start your journey toward becoming a professional teeth whitening special
 ist!\n\nGET TICKETS\n
ATTACH;FMTTYPE=image/jpeg:https://breathemiami.us/wp-content/uploads/2024/
 10/Miami-Gardens-Professional-Teeth-Whitening-Certification-Training.jpg
CATEGORIES:Wellness Events
LOCATION:20451 NW 2nd Ave\, 20451 Northwest 2nd Avenue\, Miami\, Florida\, 
 33169\, FL\, United States
X-APPLE-STRUCTURED-LOCATION;VALUE=URI;X-ADDRESS=20451 Northwest 2nd Avenue\
 , Miami\, Florida\, 33169\, FL\, United States;X-APPLE-RADIUS=100;X-TITLE=
 20451 NW 2nd Ave:geo:0,0
END:VEVENT
BEGIN:VTIMEZONE
TZID:America/New_York
X-LIC-LOCATION:America/New_York
BEGIN:STANDARD
DTSTART:20241103T010000
TZOFFSETFROM:-0400
TZOFFSETTO:-0500
TZNAME:EST
END:STANDARD
END:VTIMEZONE
END:VCALENDAR