BEGIN:VCALENDAR
VERSION:2.0
PRODID:-//wp-events-plugin.com//7.2.3.1//EN
TZID:America/New_York
X-WR-TIMEZONE:America/New_York
BEGIN:VEVENT
UID:384@breathemiami.us
DTSTART;TZID=America/New_York:20240420T100000
DTEND;TZID=America/New_York:20240420T140000
DTSTAMP:20240313T222947Z
URL:https://breathemiami.us/events/miami-dade-county-parks-earth-day/
SUMMARY:MIAMI-DADE COUNTY PARKS EARTH DAY CELEBRATION
DESCRIPTION:\nCelebrate Earth Day by Giving Back at Larry &amp\; Penny Thom
 pson Park!\nCalling all nature enthusiasts and green thumbs! Join Miami-Da
 de County Parks on Saturday\, April 20th\, for a heartwarming Earth Day ce
 lebration at Larry &amp\; Penny Thompson Park. This event offers a fantast
 ic opportunity to roll up your sleeves\, lend a helping hand\, and make a 
 real difference in your community.\nVolunteer for a Healthier Ecosystem:\n
 Team up with dedicated park staff and dedicate a portion of your day to re
 storing the park's precious Pine Rockland habitat. You'll be actively invo
 lved in tasks that directly benefit the environment\, such as:\n\n\n 	Plan
 ting Native Treasures: Contribute to a thriving ecosystem by planting nati
 ve plant species in designated Pine Rockland restoration areas. These nati
 ve plants will attract vital pollinators\, enhance the environment\, and s
 upport local wildlife.\n 	Eradicating Invasive Species: Unwanted invasive 
 plants can disrupt the natural balance. By removing them from park trails\
 , you'll help ensure a healthy and diverse ecosystem for native plants and
  animals to flourish.\n 	Cleaning Up for a Brighter Future: Keeping the pa
 rk clean and free of litter is essential. Lend a hand by collecting debris
  and litter along the trails and shorelines\, ensuring Larry &amp\; Penny 
 Thompson Park remains a beautiful haven for all.\n\nMore Than Just Volunte
 ering:\nWhile volunteer activities are at the heart of this Earth Day cele
 bration\, there's much more to explore! Enjoy a variety of engaging family
 -friendly activities throughout the park.\n\n\n 	Free Trees for All: Looki
 ng to expand your urban oasis? Don't miss the chance to participate in the
  tree giveaway organized by Million Trees Miami. Take home a beautiful nat
 ive tree and contribute to a greener neighborhood.\n 	EcoVillage Learning:
  Immerse yourself in a vibrant EcoVillage featuring educational booths. He
 re you can learn more about environmental issues\, discover eco-friendly p
 ractices\, and engage with knowledgeable experts.\n\nBe Prepared for a Rew
 arding Day:\nTo ensure a comfortable and productive day\, make sure to pac
 k a refillable water bottle to stay hydrated throughout the event. Closed-
 toe shoes and clothing suitable for outdoor work are essential. Miami-Dade
  Parks will provide all the necessary tools you'll need to complete your v
 olunteer tasks.\nJoin the Earth Day celebration at Larry &amp\; Penny Thom
 pson Park! It's a fantastic opportunity to give back to nature\, connect w
 ith your community\, and celebrate the beauty of our planet. Let's work to
 gether to create a healthier and more sustainable future for generations t
 o come!\n\n\n\n\nBOOK TICKETS\n\n
ATTACH;FMTTYPE=image/jpeg:https://breathemiami.us/wp-content/uploads/2024/
 03/Larry_And_Penny_Thompson_Memorial_Park_Lakeside_House_12.11.20_A6AEF72D
 -5056-A36A-0B567CF467BDDFD2-a6aef5415056a36_a6aef7ad-5056-a36a-0b3defca57b
 b14dd.jpg
CATEGORIES:Things To Do,Wellness Events
LOCATION:LARRY & PENNY THOMPSON PARK\,  12451 SW 184th St. \, Miami\, \, Fl
 orida\, 33177\, United States
X-APPLE-STRUCTURED-LOCATION;VALUE=URI;X-ADDRESS= 12451 SW 184th St. \, Miam
 i\, \, Florida\, 33177\, United States;X-APPLE-RADIUS=100;X-TITLE=LARRY & 
 PENNY THOMPSON PARK:geo:0,0
END:VEVENT
BEGIN:VTIMEZONE
TZID:America/New_York
X-LIC-LOCATION:America/New_York
BEGIN:DAYLIGHT
DTSTART:20240310T030000
TZOFFSETFROM:-0500
TZOFFSETTO:-0400
TZNAME:EDT
END:DAYLIGHT
END:VTIMEZONE
END:VCALENDAR