BEGIN:VCALENDAR
VERSION:2.0
PRODID:-//wp-events-plugin.com//7.2.3.1//EN
TZID:America/New_York
X-WR-TIMEZONE:America/New_York
BEGIN:VEVENT
UID:620@breathemiami.us
DTSTART;TZID=America/New_York:20240730T090000
DTEND;TZID=America/New_York:20240730T130000
DTSTAMP:20240706T102342Z
URL:https://breathemiami.us/events/miami-cupping-and-palate-development-wo
 rkshop/
SUMMARY:Miami - Cupping and Palate Development Workshop
DESCRIPTION:Discover the art and science of coffee tasting at the Miami - C
 upping and Palate Development Workshop. Designed for both enthusiasts and 
 professionals\, this workshop delves into the essential practice of palate
  development for evaluating and savoring coffee.\n\nWorkshop Highlights:\n
 \n 	Introduction to Cupping: Learn the industry standard method for assess
 ing coffee quality through cupping. Gain insights into the uses\, history\
 , and significance of this practice in the coffee world.\n 	Cupping Termin
 ology and Protocols: Understand the terminology and guidelines that define
  cupping. This session covers the language used to describe flavor\, acidi
 ty\, body\, and aftertaste\, ensuring you can communicate your sensory exp
 eriences effectively.\n 	Sensory Perception: Explore the human ability to 
 process complex sensory information. Through calibration exercises\, you'l
 l learn to identify and describe intricate flavor profiles\, enhancing you
 r appreciation and understanding of coffee.\n 	Interactive Sessions: Parti
 cipate in two comprehensive coffee cuppings and engaging sensory activitie
 s designed to refine your palate. These hands-on experiences will deepen y
 our knowledge and skills in coffee evaluation.\n 	Comprehensive Overview: 
 The workshop is structured over four hours\, with a break halfway through 
 to refresh and reflect on the learning.\n\nWhy Attend:\n\nThis workshop of
 fers a unique opportunity to immerse yourself in the world of coffee\, fro
 m its rich history to the nuanced language of its flavors. Whether you're 
 a coffee professional seeking to enhance your skills or a coffee lover eag
 er to deepen your appreciation\, this workshop provides valuable insights 
 and practical knowledge.\n\nJoin Us:\n\nExpand your coffee expertise and d
 evelop your palate in a collaborative and educational environment. Reserve
  your spot at the Miami - Cupping and Palate Development Workshop and emba
 rk on a journey to better understand and enjoy the complexities of coffee.
  We look forward to seeing you there!\n\nGET TICKETS\n
ATTACH;FMTTYPE=image/jpeg:https://breathemiami.us/wp-content/uploads/2024/
 07/Miami-Cupping-and-Palate-Development-Workshop.jpg
CATEGORIES:Food &amp; Drink Events,Mindfulness Events,Things To Do
LOCATION:Counter Culture Coffee Miami\, 7450 N Miami Avenue Miami\, Miami\,
  Florida\, 33150\, FL \, United States
X-APPLE-STRUCTURED-LOCATION;VALUE=URI;X-ADDRESS=7450 N Miami Avenue Miami\,
  Miami\, Florida\, 33150\, FL \, United States;X-APPLE-RADIUS=100;X-TITLE=
 Counter Culture Coffee Miami:geo:0,0
END:VEVENT
BEGIN:VTIMEZONE
TZID:America/New_York
X-LIC-LOCATION:America/New_York
BEGIN:DAYLIGHT
DTSTART:20240310T030000
TZOFFSETFROM:-0500
TZOFFSETTO:-0400
TZNAME:EDT
END:DAYLIGHT
END:VTIMEZONE
END:VCALENDAR