BEGIN:VCALENDAR
VERSION:2.0
PRODID:-//wp-events-plugin.com//7.2.3.1//EN
TZID:America/New_York
X-WR-TIMEZONE:America/New_York
BEGIN:VEVENT
UID:116@breathemiami.us
DTSTART;TZID=America/New_York:20231008T110000
DTEND;TZID=America/New_York:20231008T230000
DTSTAMP:20240908T112814Z
URL:https://breathemiami.us/events/miami-carnival-parade-and-concert/
SUMMARY:Miami Carnival Parade and Concert
DESCRIPTION:Miami Carnival is back at the Miami-Dade County Fairgrounds\, m
 arking its grand finale on October 8\, 2023. This jubilant celebration of 
 Caribbean culture promises an unforgettable experience.\n\nPicture yoursel
 f surrounded by the infectious rhythms of steel drums\, dazzling costumes 
 adorned with rhinestones\, and the tantalizing aroma of Caribbean spices l
 ingering in the air. Miami Carnival 2023 is set to be a spectacular affair
 \, ranking as one of the world's largest Caribbean culture celebrations\, 
 and the biggest in the United States. Spanning multiple days across Browar
 d and Miami-Dade counties\, the festivities will reach their zenith at the
  Miami-Dade County Fairgrounds on October 8\, 2023\, drawing thousands of 
 enthusiastic attendees and featuring performances by numerous bands. Here'
 s everything you need to know about this vibrant event.\n\nAbout Miami Car
 nival It's a match made in heaven for Greater Miami &amp\; Miami Beach's v
 ibrant and sunny ambiance. Now in its 39th year\, Miami Carnival draws ins
 piration from the lively carnival traditions of Brazil and Trinidad\, trad
 itionally held preceding Lent. In Miami\, these festivities come alive ove
 r Columbus Day Weekend. Anticipate a kaleidoscope of extravagant costumes 
 and the infectious beat of steel pan rhythms. The festivities commence on 
 September 30 with the Junior Carnival\, followed by J'Ouvert on October 7\
 , culminating in the Parade of Bands &amp\; Concert at the Miami-Dade Coun
 ty Fairgrounds on Sunday\, October 8.\n\nMiami Carnival 2023 Parade Of Ban
 ds &amp\; Concert Date: Sunday\, October 8 Sunday takes center stage at th
 e Miami-Dade County Fairgrounds\, where elaborately costumed revelers gath
 er to flaunt their intricate attire. The festivities kick off at 11 a.m. a
 nd extend into the night. Various bands\, each with its unique theme\, wil
 l grace the parade route\, ultimately taking the main stage in pursuit of 
 the coveted title of Band of the Year. The visual spectacle is nothing sho
 rt of astounding\, with a costume competition showcasing the most opulent\
 , rhinestone-encrusted ensembles imaginable. Look forward to competitions 
 for the best king\, queen\, and individual costumes\, offering substantial
  prizes that will surely bedazzle you. Explore the Carnival Village\, wher
 e you can savor authentic island cuisine and peruse handmade arts and craf
 ts. Elevate your spectator experience with VIP access\, which includes opt
 ions like renting a private cabana stocked with delectable food and bevera
 ges (complete with waiter service) and access to an elevated viewing platf
 orm.\n\nDon't miss this opportunity to immerse yourself in the vibrant tap
 estry of Caribbean culture at Miami Carnival 2023. It's a celebration you'
 ll remember for years to come.\n\nGET TICKETS\n\nDiscover more exciting an
 d best October events in Miami  
LOCATION:Miami-Dade County Fairgrounds\, 10901 SW 24th St.\,  Miami\, Flori
 da\, 33165\, United States
X-APPLE-STRUCTURED-LOCATION;VALUE=URI;X-ADDRESS=10901 SW 24th St.\,  Miami\
 , Florida\, 33165\, United States;X-APPLE-RADIUS=100;X-TITLE=Miami-Dade Co
 unty Fairgrounds:geo:0,0
END:VEVENT
BEGIN:VTIMEZONE
TZID:America/New_York
X-LIC-LOCATION:America/New_York
BEGIN:DAYLIGHT
DTSTART:20230312T030000
TZOFFSETFROM:-0500
TZOFFSETTO:-0400
TZNAME:EDT
END:DAYLIGHT
END:VTIMEZONE
END:VCALENDAR