BEGIN:VCALENDAR
VERSION:2.0
PRODID:-//wp-events-plugin.com//7.2.3.1//EN
TZID:America/New_York
X-WR-TIMEZONE:America/New_York
BEGIN:VEVENT
UID:751@breathemiami.us
DTSTART;TZID=America/New_York:20240916T183000
DTEND;TZID=America/New_York:20240916T203000
DTSTAMP:20240825T064058Z
URL:https://breathemiami.us/events/miami-business-tech-entrepreneur-profes
 sional-networking-soiree/
SUMMARY:Miami Business\, Tech & Entrepreneur Professional Networking Soiree
DESCRIPTION:Get ready for Miami's premier networking event designed for ent
 repreneurs\, startups\, and business professionals. This is the largest ga
 thering of its kind\, uniting a dynamic mix of innovators\, creators\, and
  industry leaders in one electrifying evening.\n\nCalling all tech startup
 s\, entrepreneurs\, artists\, professionals\, freelancers\, visionaries\, 
 and game-changers! If you’re on the hunt for co-founders\, strategic par
 tners\, coaches\, or key team members for your venture\, this is the event
  you can't afford to miss.\n\nJoin us for an evening brimming with creativ
 ity\, inspiration\, and engaging conversations. Network with like-minded i
 ndividuals\, exchange ideas\, and forge connections that could propel your
  business or project to new heights. Whether you're looking to collaborate
 \, seek advice\, or simply expand your professional circle\, this soiree p
 romises a rich and stimulating experience.\n\nDon't miss this opportunity 
 to immerse yourself in a vibrant community of forward-thinkers and pioneer
 s in the heart of Miami!\n\nGET TICKETS\n
ATTACH;FMTTYPE=image/jpeg:https://breathemiami.us/wp-content/uploads/2024/
 08/Miami-Business-Tech-Entrepreneur-Professional-Networking-Soiree.jpg
LOCATION:Batch Gastropub\, 30 Southwest 12th Street \, Miami\, Florida\, 33
 130\, FL\, United States
X-APPLE-STRUCTURED-LOCATION;VALUE=URI;X-ADDRESS=30 Southwest 12th Street \,
  Miami\, Florida\, 33130\, FL\, United States;X-APPLE-RADIUS=100;X-TITLE=B
 atch Gastropub:geo:0,0
END:VEVENT
BEGIN:VTIMEZONE
TZID:America/New_York
X-LIC-LOCATION:America/New_York
BEGIN:DAYLIGHT
DTSTART:20240310T030000
TZOFFSETFROM:-0500
TZOFFSETTO:-0400
TZNAME:EDT
END:DAYLIGHT
END:VTIMEZONE
END:VCALENDAR