BEGIN:VCALENDAR
VERSION:2.0
PRODID:-//wp-events-plugin.com//7.2.3.1//EN
TZID:America/New_York
X-WR-TIMEZONE:America/New_York
BEGIN:VEVENT
UID:1142@breathemiami.us
DTSTART;TZID=America/New_York:20241117T100000
DTEND;TZID=America/New_York:20241124T190000
DTSTAMP:20241023T082159Z
URL:https://breathemiami.us/events/miami-book-fair/
SUMMARY:Miami Book Fair
DESCRIPTION:The Miami Book Fair is back for its 41st edition\, promising a 
 vibrant celebration of literature and the arts. From November 17 to 24\, t
 he downtown campus of Miami-Dade College will transform into a bustling hu
 b of literary activity\, showcasing an exciting blend of author presentati
 ons\, enlightening discussions\, and innovative events designed to honor t
 he written word.\n\nThis year’s festival will feature an impressive line
 up of literary luminaries\, including renowned poets and authors such as B
 illy Collins\, Daniel Handler\, Deborah Paredez\, and Patti Smith. These c
 elebrated figures will engage audiences with captivating readings and thou
 ght-provoking discussions\, offering insights into their creative processe
 s and the themes that inspire their work.\n\nIn addition to these national
 ly acclaimed writers\, the fair will spotlight local talents\, such as Ale
 x Segura\, Dr. Paul George\, and Edwidge Danticat\, who will share their u
 nique perspectives and contributions to the literary landscape. The event 
 provides an invaluable opportunity for attendees to connect with both esta
 blished and emerging voices in literature\, fostering a rich dialogue arou
 nd storytelling and creativity.\n\nBeyond the author presentations\, the M
 iami Book Fair will feature a variety of activities designed to engage rea
 ders of all ages\, including workshops\, panel discussions\, and interacti
 ve sessions. Festival-goers can explore diverse genres and themes\, deepen
 ing their appreciation for the literary arts while discovering new authors
  and works.\n\nWith its lively street festival atmosphere\, the Miami Book
  Fair serves not only as a celebration of literature but also as a gatheri
 ng place for the community to connect over shared interests in reading\, w
 riting\, and the power of storytelling. As the festival approaches\, antic
 ipation builds for what promises to be an unforgettable week of literary e
 xploration and celebration.\n\nGET TICKETS\n
ATTACH;FMTTYPE=image/jpeg:https://breathemiami.us/wp-content/uploads/2024/
 10/Miami-Book-Fair.webp
CATEGORIES:Things To Do
LOCATION:Miami Dade College – Wolfson Campus\, 300 NE Second Ave\, Miami\
 , Florida\, 33132\,  FL \, United States
X-APPLE-STRUCTURED-LOCATION;VALUE=URI;X-ADDRESS=300 NE Second Ave\, Miami\,
  Florida\, 33132\,  FL \, United States;X-APPLE-RADIUS=100;X-TITLE=Miami D
 ade College – Wolfson Campus:geo:0,0
END:VEVENT
BEGIN:VTIMEZONE
TZID:America/New_York
X-LIC-LOCATION:America/New_York
BEGIN:STANDARD
DTSTART:20241103T010000
TZOFFSETFROM:-0400
TZOFFSETTO:-0500
TZNAME:EST
END:STANDARD
END:VTIMEZONE
END:VCALENDAR