BEGIN:VCALENDAR
VERSION:2.0
PRODID:-//wp-events-plugin.com//7.2.3.1//EN
TZID:America/New_York
X-WR-TIMEZONE:America/New_York
BEGIN:VEVENT
UID:1157@breathemiami.us
DTSTART;TZID=America/New_York:20241111T111100
DTEND;TZID=America/New_York:20241111T130000
DTSTAMP:20241023T110128Z
URL:https://breathemiami.us/events/miami-beach-veterans-day-parade-and-cel
 ebration/
SUMMARY:Miami Beach Veterans Day Parade and Celebration
DESCRIPTION:Honor the nation’s heroes by joining the City of Miami Beach 
 for the 16th annual Veterans Day Parade and Celebration on Monday\, Novemb
 er 11. This festive event brings together veterans\, military groups\, mar
 ching bands\, and local community organizations for a patriotic procession
  along the iconic Ocean Drive\, starting at Fifth Street.\n\nA highlight o
 f the celebration is an exhilarating F-16 flyover\, paying tribute to the 
 brave men and women who have served. The parade begins at 11:11 a.m.\, mar
 king the exact hour of the armistice that ended World War I — the 11th h
 our of the 11th day of the 11th month.\n\nAfter the parade\, attendees can
  continue the celebration with post-parade activities\, including live per
 formances and family-friendly fun\, in recognition of those who have serve
 d and sacrificed. Set against the stunning backdrop of Miami Beach\, the e
 vent is a perfect blend of reflection\, celebration\, and community spirit
 .\n\nDon't miss this opportunity to show your support and gratitude to vet
 erans while experiencing one of Miami Beach’s most cherished annual trad
 itions!\n\nGET TICKETS\n
ATTACH;FMTTYPE=image/jpeg:https://breathemiami.us/wp-content/uploads/2024/
 10/Miami-Beach-Veterans-Day-Parade-and-Celebration.jpg
CATEGORIES:Things To Do
LOCATION:Ocean Drive from 5th to 15th St\, Miami Beach\, Miami\, Florida\, 
 33139\,  FL \, United States
X-APPLE-STRUCTURED-LOCATION;VALUE=URI;X-ADDRESS=Miami Beach\, Miami\, Flori
 da\, 33139\,  FL \, United States;X-APPLE-RADIUS=100;X-TITLE=Ocean Drive f
 rom 5th to 15th St:geo:0,0
END:VEVENT
BEGIN:VTIMEZONE
TZID:America/New_York
X-LIC-LOCATION:America/New_York
BEGIN:STANDARD
DTSTART:20241103T010000
TZOFFSETFROM:-0400
TZOFFSETTO:-0500
TZNAME:EST
END:STANDARD
END:VTIMEZONE
END:VCALENDAR