BEGIN:VCALENDAR
VERSION:2.0
PRODID:-//wp-events-plugin.com//7.2.3.1//EN
TZID:America/New_York
X-WR-TIMEZONE:America/New_York
BEGIN:VEVENT
UID:1290@breathemiami.us
DTSTART;TZID=America/New_York:20250318T170000
DTEND;TZID=America/New_York:20250318T180000
DTSTAMP:20250226T171437Z
URL:https://breathemiami.us/events/miami-beach-sound-bath-relax-and-rebala
 nce-with-nesli/
SUMMARY:Miami Beach Sound Bath: Relax and Rebalance with Nesli
DESCRIPTION:As the sun sets over Miami Beach\, Nesli—a dedicated life and
  mindset coach\, NLP &amp\; hypnosis practitioner—invites participants t
 o immerse themselves in a transformative evening of relaxation\, healing\,
  and self-discovery. Set against the serene backdrop of the ocean\, this S
 unset Sound Bath offers a unique opportunity to unwind while surrounded by
  the rhythmic sounds of crashing waves and the therapeutic vibrations of s
 inging bowls and other sound healing instruments.\nThe session begins with
  a guided tapping and breathwork exercise\, designed to calm the mind and 
 prepare the body for deep relaxation. As the gentle frequencies of sound w
 aves resonate through the air\, participants are encouraged to release str
 ess\, embrace stillness\, and step beyond their comfort zones in an effort
 less yet powerful way.\n\nWhat to Expect:\n✅ Deep Relaxation – Let the
  soothing sound vibrations wash away tension as you melt into the warm san
 d.✅ Emotional Release – Free yourself from stagnant energy and welcome
  peace in a safe and supportive environment.✅ Spiritual Connection – E
 xperience the synergy of nature and sound\, fostering a deeper connection 
 with yourself and the world around you.✅ Community &amp\; Support – Sh
 are this journey with like-minded individuals in a welcoming and nurturing
  space.\n📌 Discover more events: Nesli.TV💬 Join the community on Wha
 tsApp: Nesli.tv/whatsapp📲 Follow on Instagram &amp\; TikTok: @NesliTV\n
 Whether seeking relaxation\, clarity\, or a deeper connection with oneself
 \, this Miami Beach Sound Bath offers a profound escape from the noise of 
 daily life. Let the natural elements and healing vibrations guide you towa
 rd balance and renewal.\n\n\nGET TICKETS\n
ATTACH;FMTTYPE=image/jpeg:https://breathemiami.us/wp-content/uploads/2025/
 02/Miami-Beach-Sound-Bath-Relax-and-Rebalance-with-Nesli.avif
CATEGORIES:Wellness Events
LOCATION:North Shore Park Beach\, 79th Street\, Miami-Dade County\, FL\, 33
 140\, FL\, United States
X-APPLE-STRUCTURED-LOCATION;VALUE=URI;X-ADDRESS=79th Street\, Miami-Dade Co
 unty\, FL\, 33140\, FL\, United States;X-APPLE-RADIUS=100;X-TITLE=North Sh
 ore Park Beach:geo:0,0
END:VEVENT
BEGIN:VTIMEZONE
TZID:America/New_York
X-LIC-LOCATION:America/New_York
BEGIN:DAYLIGHT
DTSTART:20250309T030000
TZOFFSETFROM:-0500
TZOFFSETTO:-0400
TZNAME:EDT
END:DAYLIGHT
END:VTIMEZONE
END:VCALENDAR