BEGIN:VCALENDAR
VERSION:2.0
PRODID:-//wp-events-plugin.com//7.2.3.1//EN
TZID:America/New_York
X-WR-TIMEZONE:America/New_York
BEGIN:VEVENT
UID:1186@breathemiami.us
DTSTART;TZID=America/New_York;VALUE=DATE:20241114
DTEND;TZID=America/New_York;VALUE=DATE:20241118
DTSTAMP:20241024T063519Z
URL:https://breathemiami.us/events/miami-beach-polo-world-cup/
SUMMARY:Miami Beach Polo World Cup
DESCRIPTION:The Miami Beach Polo World Cup\, renowned as the premier beach 
 polo event in the world\, is set to captivate audiences once again at Coll
 ins Park. Spanning four exhilarating days\, this prestigious tournament fe
 atures high-goal polo matches that showcase eight international teams and 
 over 120 magnificent horses competing for both glory and charitable causes
 .\n\nAs spectators gather to witness the thrilling matches\, they can indu
 lge in a variety of luxurious amenities that elevate the experience. The P
 olo Lounge\, strategically positioned with a stunning view of the field\, 
 provides a perfect setting to enjoy refreshing cocktails and socialize. A 
 carefully curated retail village offers attendees the chance to browse uni
 que vendors and find exclusive merchandise. Each day culminates in star-st
 udded Après Polo parties at the upscale Setai\, where guests can unwind a
 nd celebrate the day's events.\n\nThis year introduces exciting new elemen
 ts\, including a children's polo event\, an LGBT polo match\, and immersiv
 e clinics that provide hands-on experiences for those interested in learni
 ng the sport. A highlight of the festivities will be the cocktail dance pa
 rty and player meet-and-greet at Medium Cool on November 15\, offering fan
 s a chance to mingle with the players and enjoy a vibrant social atmospher
 e.\n\nGeneral admission to the matches is complimentary\, welcoming the pu
 blic to partake in the festivities and witness the exhilarating sport. For
  those looking to enhance their experience\, VIP tickets are available\, g
 ranting access to shaded lounge areas\, a full-service bar\, and gourmet c
 atering options.\n\nWith a perfect blend of thrilling polo action\, luxuri
 ous amenities\, and community engagement\, the Miami Beach Polo World Cup 
 promises an unforgettable experience for all attendees\, making it a must-
 visit event in the Miami social calendar.\n\nGET TICKETS\n
ATTACH;FMTTYPE=image/jpeg:https://breathemiami.us/wp-content/uploads/2024/
 10/Miami-Beach-Polo-World-Cup.webp
CATEGORIES:Sports &amp; Fitness Events,Things To Do
LOCATION:Lummus Park\, 1130 Ocean Dr\, Miami\, Florida\, 33128\, FL\, Unite
 d States
X-APPLE-STRUCTURED-LOCATION;VALUE=URI;X-ADDRESS=1130 Ocean Dr\, Miami\, Flo
 rida\, 33128\, FL\, United States;X-APPLE-RADIUS=100;X-TITLE=Lummus Park:g
 eo:0,0
END:VEVENT
BEGIN:VTIMEZONE
TZID:America/New_York
X-LIC-LOCATION:America/New_York
BEGIN:STANDARD
DTSTART:20241103T010000
TZOFFSETFROM:-0400
TZOFFSETTO:-0500
TZNAME:EST
END:STANDARD
END:VTIMEZONE
END:VCALENDAR