BEGIN:VCALENDAR
VERSION:2.0
PRODID:-//wp-events-plugin.com//7.2.3.1//EN
TZID:America/New_York
X-WR-TIMEZONE:America/New_York
BEGIN:VEVENT
UID:467@breathemiami.us
DTSTART;TZID=America/New_York:20240601T100000
DTEND;TZID=America/New_York:20240630T190000
DTSTAMP:20240503T020321Z
URL:https://breathemiami.us/events/miami-ballon-museum/
SUMMARY:Miami Balloon Museum: Immersive Art\, Fun Photos\, Interactive Exhi
 bits
DESCRIPTION:Immerse Yourself in a World of Color and Fun at the Balloon Mus
 eum in Miami!\nAre you looking for a unique and social art experience in M
 iami? Look no further than the Balloon Museum! This immersive exhibit will
  feature large\, colorful\, and interactive art installations that are sur
 e to delight visitors of all ages.\nGet Ready to be Wowed\nThe Balloon Mus
 eum is designed to provide visitors with a one-of-a-kind experience. The m
 useum's installations are meant to be explored and interacted with\, so yo
 u can take photos\, play in the exhibits\, and create lasting memories.\nI
 mportant Details:\n\n\n 	Location: Mana Wynwood\, 318 NW 23rd St\, Miami\,
  FL 33127\, United States\n 	Dates: Opening June 2024 (Estimated ongoing e
 xhibit)\n 	Times: Estimated - Tuesday to Sunday: 10 AM - 7 PM (may vary)\n
  	Tickets: Join the waitlist to get a 50% discount!\n\nIf you're looking f
 or a fun and unforgettable art experience in Miami\, be sure to check out 
 the Balloon Museum!\n\n\nJoin the Waitlist\n
ATTACH;FMTTYPE=image/jpeg:https://breathemiami.us/wp-content/uploads/2024/
 05/image.jpg
CATEGORIES:Featured Events,Mindfulness Events,Things To Do
LOCATION:Mana Wynwood\, 318 NW 23rd St\, Miami\, Florida\, 33127\, United S
 tates
X-APPLE-STRUCTURED-LOCATION;VALUE=URI;X-ADDRESS=318 NW 23rd St\, Miami\, Fl
 orida\, 33127\, United States;X-APPLE-RADIUS=100;X-TITLE=Mana Wynwood:geo:
 0,0
END:VEVENT
BEGIN:VTIMEZONE
TZID:America/New_York
X-LIC-LOCATION:America/New_York
BEGIN:DAYLIGHT
DTSTART:20240310T030000
TZOFFSETFROM:-0500
TZOFFSETTO:-0400
TZNAME:EDT
END:DAYLIGHT
END:VTIMEZONE
END:VCALENDAR