BEGIN:VCALENDAR
VERSION:2.0
PRODID:-//wp-events-plugin.com//7.2.3.1//EN
TZID:America/New_York
X-WR-TIMEZONE:America/New_York
BEGIN:VEVENT
UID:189@breathemiami.us
DTSTART;TZID=America/New_York:20231210T103000
DTEND;TZID=America/New_York:20231210T113000
DTSTAMP:20240908T112619Z
URL:https://breathemiami.us/events/miami-art-week-wellness-series-tone-flo
 w/
SUMMARY:Miami Art Week Wellness Series: Tone + Flow
DESCRIPTION:Event Information: We warmly invite you to an exclusive beachfr
 ont event at the Faena Hotel. The session will be held adjacent to the cap
 tivating Miami Art Week Installation titled "Maze: A Journey Through The A
 lgorithmic Self\," created by the renowned artist Sabastian Errazuriz.\n\n
 Date and Time: The event is scheduled for Sunday\, December 10th\, 2023\, 
 and will run from 10:30 AM to 11:30 AM.\n\nSpecial Gifts: All attendees wi
 ll be delighted to receive special gifts courtesy of Alo Yoga!\n\nTicket I
 nformation\n While we suggest a donation of $20 for participation\, we we
 lcome adjustments according to your preference.\n\n&nbsp\;\n\nGET TICKETS\
 n\n&nbsp\;\n\nWorkout Session Details\n\nEmbark on a rejuvenating 60-minut
 e workout session\, 'Tone + Flow'\, expertly designed to offer a low-impac
 t\, full-body exercise routine. The session begins with a strength and scu
 lpting series led by Kelsey Rose\, the innovative founder of Shaep. This i
 s seamlessly followed by a vinyasa-style cooldown session\, focusing on re
 laxation for both body and mind\, conducted by Lucy Nelles\, the esteemed 
 founder of Hi Vibe Wellness.\n\nEssentials to Bring: Participants are requ
 ested to bring their own yoga mat\, a towel or blanket\, and water to stay
  hydrated throughout the class.\n\nParking Options: For your convenience\,
  the Faena Hotel offers paid valet parking services. Additionally\, there 
 is street parking available in the vicinity and a paid parking lot located
  just a block north of the hotel.
ATTACH;FMTTYPE=image/jpeg:https://breathemiami.us/wp-content/uploads/2023/
 12/https___cdn.evbuc_.com_images_649782209_1133212293643_1_original.jpeg
CATEGORIES:Things To Do,Wellness Events,Yoga Events
LOCATION:Faena Hotel\, 3201 Collins Avenue\, Miami Beach\, FL\, 33140\, Uni
 ted States
X-APPLE-STRUCTURED-LOCATION;VALUE=URI;X-ADDRESS=3201 Collins Avenue\, Miami
  Beach\, FL\, 33140\, United States;X-APPLE-RADIUS=100;X-TITLE=Faena Hotel
 :geo:0,0
END:VEVENT
BEGIN:VTIMEZONE
TZID:America/New_York
X-LIC-LOCATION:America/New_York
BEGIN:STANDARD
DTSTART:20231105T010000
TZOFFSETFROM:-0400
TZOFFSETTO:-0500
TZNAME:EST
END:STANDARD
END:VTIMEZONE
END:VCALENDAR