BEGIN:VCALENDAR
VERSION:2.0
PRODID:-//wp-events-plugin.com//7.2.3.1//EN
TZID:America/New_York
X-WR-TIMEZONE:America/New_York
BEGIN:VEVENT
UID:787@breathemiami.us
DTSTART;TZID=America/New_York:20240907T160000
DTEND;TZID=America/New_York:20240907T190000
DTSTAMP:20240825T184920Z
URL:https://breathemiami.us/events/miami-agave-fiesta-2024/
SUMMARY:MIAMI.AGAVE.FIESTA ™ 2024
DESCRIPTION:Introducing the MIAMI.AGAVE.FIESTA™ 2024\, an inaugural event
  that brings together a vibrant showcase of tequilas\, mezcals\, and an ar
 ray of other agave spirits straight from Mexico. This is set to be Miami's
  premier Agave Spirits Celebration\, offering an unparalleled experience f
 or enthusiasts and newcomers alike.\n\nAttendees will have the opportunity
  to explore a diverse selection of spirits\, savor expertly crafted cockta
 ils\, and enjoy the ambiance of one of Miami's top event venues. The celeb
 ration promises to be a sensory delight\, with tasting samples\, live musi
 c\, and light bites provided by local culinary talents.\n\nFor those seeki
 ng an elevated experience\, VIP ADMISSION tickets are available for $99. V
 IP guests will enjoy early access beginning at 4 p.m.\, along with exclusi
 ve perks including:\n\n 	A complimentary commemorative Glencairn Copita gl
 ass\n 	Tasting samples of premium spirits and cocktails\n 	Beer samples fr
 om Lincoln's Beard Brewing\n 	Gourmet light bites\n\nEvery ticket purchase
  also includes entry into a raffle for a chance to win a bottle of special
  Tequila or Mezcal.\n\nAccording to event founder Frank Moreno\, "Tequila 
 is the hottest spirit category in the world\, and the MIAMI.AGAVE.FIESTA
 ™ is the ultimate celebration of these cherished spirits. The craftsmans
 hip\, authenticity\, and rich traditions tied to agave spirits deserve the
 ir own dedicated festival. This inaugural event is all about exploration\,
  education\, and most importantly\, enjoyment."\n\nDon't miss this excitin
 g opportunity to immerse yourself in the world of agave spirits at Miami's
  biggest celebration of its kind!\n\nGET TICKETS\n
ATTACH;FMTTYPE=image/jpeg:https://breathemiami.us/wp-content/uploads/2024/
 08/MIAMI.AGAVE_.FIESTA-™-2024.jpg
CATEGORIES:Food &amp; Drink Events,Things To Do
LOCATION:Coral Gables Country Club\, 990 Alhambra Circle Coral Gables\, Mia
 mi\, Florida\, 33134\, FL\, United States
X-APPLE-STRUCTURED-LOCATION;VALUE=URI;X-ADDRESS=990 Alhambra Circle Coral G
 ables\, Miami\, Florida\, 33134\, FL\, United States;X-APPLE-RADIUS=100;X-
 TITLE=Coral Gables Country Club:geo:0,0
END:VEVENT
BEGIN:VTIMEZONE
TZID:America/New_York
X-LIC-LOCATION:America/New_York
BEGIN:DAYLIGHT
DTSTART:20240310T030000
TZOFFSETFROM:-0500
TZOFFSETTO:-0400
TZNAME:EDT
END:DAYLIGHT
END:VTIMEZONE
END:VCALENDAR