BEGIN:VCALENDAR
VERSION:2.0
PRODID:-//wp-events-plugin.com//7.2.3.1//EN
TZID:America/New_York
X-WR-TIMEZONE:America/New_York
BEGIN:VEVENT
UID:1257@breathemiami.us
DTSTART;TZID=America/New_York:20250225T070000
DTEND;TZID=America/New_York:20250225T190000
DTSTAMP:20250212T174810Z
URL:https://breathemiami.us/events/metrics-mindfulness-data-driven-full-da
 y-retreat-2/
SUMMARY:Metrics & Mindfulness Data-Driven Full-Day Retreat
DESCRIPTION:Step into a transformative full-day retreat designed to reset y
 our body\, mind\, and spirit\, offering a perfect balance of science and m
 indfulness. This exclusive experience combines cutting-edge metrics with h
 olistic practices to help you unlock your full potential\, optimize wellne
 ss\, and elevate your overall vitality.\nFull-Day Experience: $975 (origin
 ally $1279) 5-Day Experience: From $800 per day\n\nMitochondrial Testing &
 amp\; Consultation\nDive deep into the health of your cells with mitochond
 rial testing\, an advanced diagnostic tool that evaluates your energy prod
 uction\, gene expression\, and protein function at a cellular level. This 
 revolutionary testing provides personalized insights into your metabolic h
 ealth and genetic makeup\, enabling you to uncover the root causes of ener
 gy imbalances and identify areas for improvement. By understanding how you
 r cells produce energy\, you’ll receive tailored lifestyle\, nutrition\,
  and wellness strategies to optimize vitality\, enhance resilience\, and u
 nlock your true potential.\n\nBioWell Diagnostics\nExperience BioWell diag
 nostics to measure your energy field and detect imbalances that may be aff
 ecting your overall well-being. Using advanced technology\, BioWell provid
 es real-time feedback on your energy levels\, offering insights that guide
  you toward achieving holistic wellness. This diagnostic tool is essential
  for individuals seeking to improve their health through energetic alignme
 nt and self-awareness.\n\nHypnotic Sound Journey &amp\; Access Bars® Cons
 ciousness\nSurrender to the healing power of sound with a hypnotic sound j
 ourney\, designed to soothe your mind and recalibrate your energy. Deeply 
 relaxing and immersive\, this journey uses specific sound frequencies to r
 elease stored tension\, blockages\, and mental clutter. Alongside this\, e
 njoy the transformative practice of Access Bars®\, a unique method that w
 orks with 32 points on the head to release limiting beliefs\, clear mental
  fog\, and promote clarity and calm. Together\, these techniques provide a
 n incredibly rejuvenating experience\, fostering a state of deep relaxatio
 n\, renewal\, and clarity.\n\nWhy Attend?\n\n 	Personalized Wellness: Rece
 ive a comprehensive analysis of your cellular health with mitochondrial te
 sting and BioWell diagnostics.\n 	Strategic Reset: Reset your mindset\, we
 llness routine\, and energy levels for optimal health and vitality.\n 	Hol
 istic Healing: Experience the powerful integration of science\, mindfulnes
 s\, and energy healing practices to support your overall well-being.\n 	Ex
 pert Guidance: Benefit from personalized insights from spiritual advisors\
 , expert facilitators\, and holistic health practitioners.\n\nWhat’s Inc
 luded?\n\n 	Mitochondrial testing and personalized consultation\n 	BioWell
  diagnostic report with recommendations\n 	Hypnotic sound journey to balan
 ce and rejuvenate energy\n 	Access Bars® Consciousness session to clear m
 ental blocks\n 	Tailored wellness plan based on your unique data\n 	Delici
 ous\, nutritious meals and beverages for sustained energy throughout the d
 ay\n 	A serene\, peaceful environment conducive to deep relaxation and hea
 ling\n\nReserve Your Spot TodayTake the next step in your wellness journey
  with this one-of-a-kind retreat. Whether you are seeking to optimize ener
 gy\, reset your health\, or deepen your mindfulness practice\, this retrea
 t offers everything you need to achieve a state of total balance and vital
 ity.\nBook now and embark on a transformative experience that will reset y
 our mind\, body\, and spirit.\n\n\nGET TICKETS\n
ATTACH;FMTTYPE=image/jpeg:https://breathemiami.us/wp-content/uploads/2025/
 02/Metrics-Mindfulness-Data-Driven-Full-Day-Retreat.jpeg
CATEGORIES:Wellness Events
LOCATION:Carillon Miami Wellness Resort\, 6801 Collins Avenue Miami Beach\,
 \, Miami Beach\,\, United States\,  33141\, United States
X-APPLE-STRUCTURED-LOCATION;VALUE=URI;X-ADDRESS=6801 Collins Avenue Miami B
 each\,\, Miami Beach\,\, United States\,  33141\, United States;X-APPLE-RA
 DIUS=100;X-TITLE=Carillon Miami Wellness Resort:geo:0,0
END:VEVENT
BEGIN:VTIMEZONE
TZID:America/New_York
X-LIC-LOCATION:America/New_York
BEGIN:STANDARD
DTSTART:20241103T010000
TZOFFSETFROM:-0400
TZOFFSETTO:-0500
TZNAME:EST
END:STANDARD
END:VTIMEZONE
END:VCALENDAR