BEGIN:VCALENDAR
VERSION:2.0
PRODID:-//wp-events-plugin.com//7.2.3.1//EN
TZID:America/New_York
X-WR-TIMEZONE:America/New_York
BEGIN:VEVENT
UID:442@breathemiami.us
DTSTART;TZID=America/New_York:20240505T190000
DTEND;TZID=America/New_York:20240505T201500
DTSTAMP:20240418T233153Z
URL:https://breathemiami.us/events/meditation-sound-bath/
SUMMARY:Meditation & Sound Bath
DESCRIPTION:\nFind Deep Relaxation &amp\; Restore Your Wellbeing: Yin Yoga 
 &amp\; Sound Bath Retreat\nFeeling stressed and overwhelmed? Escape the da
 ily grind and experience profound relaxation with our Yin Yoga &amp\; Soun
 d Bath Retreat.\nShift Your State of Being:\nThis unique retreat goes beyo
 nd physical postures. Through gentle Yin yoga poses\, guided meditation\, 
 and breathwork (pranayama)\, we'll help you transition from a stressed "fi
 ght-or-flight" mode to a state of deep restoration. Allow your body's natu
 ral healing mechanisms to take center stage.\nRenew Your Nervous System\, 
 Lymphatic System &amp\; Digestion:\nThe retreat's focus extends beyond the
  physical. By promoting relaxation\, we can support the optimal functionin
 g of your nervous system\, lymphatic system\, and digestion. Experience a 
 holistic approach to well-being.\nImmerse Yourself in Tranquility:\nThe re
 treat features slow and mindful yoga movements\, allowing you to sink deep
 ly into each pose. Guided meditation will further quiet your mind and prom
 ote inner peace. Finally\, a sound journey using various therapeutic instr
 uments will wash over you\, leaving you feeling replenished and rejuvenate
 d.\nA Journey of Harmony &amp\; Bliss:\nIndulge in a sensory experience de
 signed to restore harmony and cultivate a sense of bliss. Leave the retrea
 t feeling refreshed\, revitalized\, and ready to embrace life with renewed
  energy.\nImportant Information:\n\n\n 	Limited Space Available: Reserve y
 our spot today to secure your participation.\n 	No Refunds Offered: Please
  carefully consider your commitment before registering.\n\nDon't Miss Out 
 on This Transformative Experience!\nThis Yin Yoga &amp\; Sound Bath Retrea
 t offers a unique opportunity to prioritize your well-being and discover a
  deeper sense of peace. Reserve your spot today and embark on a journey of
  restoration and self-discovery!\n\n\n\nBUY TICKETS\n
ATTACH;FMTTYPE=image/jpeg:https://breathemiami.us/wp-content/uploads/2024/
 04/https___cdn.evbuc_.com_images_729901579_25019560487_1_original.jpeg
CATEGORIES:Wellness Events
LOCATION:Synergy Yoga Center\, 844 Alton Road #2nd floor\, Miami Beach\, Fl
 orida\, 33139\, United States
X-APPLE-STRUCTURED-LOCATION;VALUE=URI;X-ADDRESS=844 Alton Road #2nd floor\,
  Miami Beach\, Florida\, 33139\, United States;X-APPLE-RADIUS=100;X-TITLE=
 Synergy Yoga Center:geo:0,0
END:VEVENT
BEGIN:VTIMEZONE
TZID:America/New_York
X-LIC-LOCATION:America/New_York
BEGIN:DAYLIGHT
DTSTART:20240310T030000
TZOFFSETFROM:-0500
TZOFFSETTO:-0400
TZNAME:EDT
END:DAYLIGHT
END:VTIMEZONE
END:VCALENDAR