BEGIN:VCALENDAR
VERSION:2.0
PRODID:-//wp-events-plugin.com//7.2.3.1//EN
TZID:America/New_York
X-WR-TIMEZONE:America/New_York
BEGIN:VEVENT
UID:457@breathemiami.us
DTSTART;TZID=America/New_York:20240514T193000
DTEND;TZID=America/New_York:20240514T203000
DTSTAMP:20240429T211218Z
URL:https://breathemiami.us/events/meditation-energy-healing/
SUMMARY:Meditation & Energy Healing
DESCRIPTION:\nUnwind &amp\; Recharge: Meditation &amp\; Energy Healing with
  Emmy (@the_mindful_ot)\nFeeling stressed and disconnected? Seeking a mome
 nt of calm and rejuvenation? Join Emmy\, @the_mindful_ot\, for a transform
 ative evening of meditation and energy healing.\nEmbrace Inner Peace:\nThi
 s special event offers a unique opportunity to unwind and reconnect with y
 ourself. Emmy will guide you through a powerful combination of practices:\
 n\n\n 	Meditation: Learn calming meditation techniques to quiet the mind a
 nd cultivate inner peace.\n 	Energy Healing: Experience the benefits of th
 is ancient practice as Emmy guides energy flow for improved well-being.\n 
 	Visualization &amp\; Breathwork: Deepen your meditation with guided visua
 lizations and intentional breathing exercises.\n\nFind Your Comfort:\nCrea
 te a comfortable and personalized space:\n\n\n 	Bring the Essentials: A la
 rge towel or blanket and head support are recommended.\n 	Cozy Up (Optiona
 l): Feel free to bring anything that enhances your relaxation\, like an ey
 e mask or essential oils.\n\nFlexible Payment Options:\n\n\n 	Avoid Fees: 
 Prefer to skip Eventbrite fees? Pay in cash on the day of the event.\n 	Ze
 lle Option: Pay electronically using Zelle by sending payment Info@wellnes
 syot.com.\n 	Payment Notes: Please include your full name and the event da
 te in the Zelle payment comments.\n\nParking Information:\n\n\n 	Self-Park
 ing: Free self-parking is available on-site\, past the valet area on the r
 ight side.\n 	Valet Parking (Optional): Valet parking is available for an 
 additional $5.\n\nDon't miss this opportunity to prioritize your well-bein
 g! Reserve your spot today and join Emmy for an evening of deep relaxation
  and energy renewal.\nSpace is limited!\n\n\n\nBUY TICKETS\n
ATTACH;FMTTYPE=image/jpeg:https://breathemiami.us/wp-content/uploads/2024/
 04/https___cdn.evbuc_.com_images_464607259_272859775238_1_original.jpg
CATEGORIES:Wellness Events
LOCATION:Beachcomber Resort & Club\, 1200 South Ocean Boulevard\, Pompano B
 each\, Florida\, 33062\, United States
X-APPLE-STRUCTURED-LOCATION;VALUE=URI;X-ADDRESS=1200 South Ocean Boulevard\
 , Pompano Beach\, Florida\, 33062\, United States;X-APPLE-RADIUS=100;X-TIT
 LE=Beachcomber Resort & Club:geo:0,0
END:VEVENT
BEGIN:VTIMEZONE
TZID:America/New_York
X-LIC-LOCATION:America/New_York
BEGIN:DAYLIGHT
DTSTART:20240310T030000
TZOFFSETFROM:-0500
TZOFFSETTO:-0400
TZNAME:EDT
END:DAYLIGHT
END:VTIMEZONE
END:VCALENDAR