BEGIN:VCALENDAR
VERSION:2.0
PRODID:-//wp-events-plugin.com//7.2.3.1//EN
TZID:America/New_York
X-WR-TIMEZONE:America/New_York
BEGIN:VEVENT
UID:821@breathemiami.us
DTSTART;TZID=America/New_York:20240914T193000
DTEND;TZID=America/New_York:20240914T203000
DTSTAMP:20240907T022140Z
URL:https://breathemiami.us/events/meditate-aromatherapy/
SUMMARY:Meditate Aromatherapy
DESCRIPTION:At Brisasana’s Yoga\, the Meditate Aromatherapy session offer
 s a holistic journey designed to bring relaxation\, rejuvenation\, and det
 oxification to the body\, mind\, and soul.\n\nWhat to Expect:\n\n 	Holisti
 c Journey: This unique experience blends the art of meditation with the th
 erapeutic benefits of aromatherapy\, creating a comprehensive approach to 
 wellness that addresses every aspect of your being.\n 	Relaxation and Reju
 venation: Participants will engage in meditative practices that are harmon
 iously integrated with the soothing effects of essential oils. This combin
 ation fosters deep relaxation\, allowing the body and mind to unwind and r
 ejuvenate effectively.\n 	Detoxification: The session is crafted to help d
 etoxify both physical and emotional layers. The aromatic elements and guid
 ed meditation work in tandem to cleanse and refresh\, promoting a sense of
  overall well-being.\n 	Mind\, Body\, and Soul: By incorporating aromather
 apy into meditation\, this experience supports a balanced and harmonious s
 tate of being. It encourages a profound connection between mind\, body\, a
 nd soul\, facilitating a comprehensive healing process.\n\nImmerse yoursel
 f in the Meditate Aromatherapy session at Brisasana’s Yoga and discover 
 a transformative journey that rejuvenates and balances every facet of your
  life.\n\nGET TICKETS\n
ATTACH;FMTTYPE=image/jpeg:https://breathemiami.us/wp-content/uploads/2024/
 09/Meditate-Aromatherapy.jpg
CATEGORIES:Mindfulness Events,Things To Do,Wellness Events
LOCATION:RTGBeauty Spa\, 1511 North Palm Avenue Pembroke Pines\, Miami\, Fl
 orida\, 33026\, FL\, United States
X-APPLE-STRUCTURED-LOCATION;VALUE=URI;X-ADDRESS=1511 North Palm Avenue Pemb
 roke Pines\, Miami\, Florida\, 33026\, FL\, United States;X-APPLE-RADIUS=1
 00;X-TITLE=RTGBeauty Spa:geo:0,0
END:VEVENT
BEGIN:VTIMEZONE
TZID:America/New_York
X-LIC-LOCATION:America/New_York
BEGIN:DAYLIGHT
DTSTART:20240310T030000
TZOFFSETFROM:-0500
TZOFFSETTO:-0400
TZNAME:EDT
END:DAYLIGHT
END:VTIMEZONE
END:VCALENDAR