BEGIN:VCALENDAR
VERSION:2.0
PRODID:-//wp-events-plugin.com//7.2.3.1//EN
TZID:America/New_York
X-WR-TIMEZONE:America/New_York
BEGIN:VEVENT
UID:1025@breathemiami.us
DTSTART;TZID=America/New_York:20241103T060000
DTEND;TZID=America/New_York:20241103T073000
DTSTAMP:20241010T075011Z
URL:https://breathemiami.us/events/meditacion-solar-sungazing/
SUMMARY:Meditacion Solar (Sungazing)
DESCRIPTION:\n\n\n\n\n✨ Namasté\, dear beings of light!\n\n🌞 You are 
 warmly invited to join a transformative Solar Meditation (Sungazing) sessi
 on in the serene setting of Dania Beach. This ancient practice connects de
 eply with the sun’s vital energy\, helping to rejuvenate both body and s
 oul.\n\nDetails:\n\n 	Day: Sundays\n 	Contribution: $22\n 	Time: 6:00 AM\n
  	Location: 300 N Beach Rd\, Dania Beach\, FL 33004\, USA\n 	Zelle Payment
 : 1111kk.ht@gmail.com\n 	WhatsApp: +1 954 469 9999\n\nDuring this session\
 , we will focus on:\n\n 	Harnessing solar energy to raise our vibrations.\
 n 	Conscious breathing techniques to align body and spirit.\n 	Guided medi
 tation for self-reflection and inner awakening.\n\nWhat to bring:\n\n 	Yog
 a mat\n 	Blanket\n 	Comfortable\, flexible clothing\n 	Water for hydration
 \n 	A personal intention for your practice\n\nTogether\, we will elevate o
 ur frequency and fill ourselves with the pure\, radiant energy of the sun.
  🌞✨\n\nWe look forward to sharing this powerful and transformative ex
 perience with you! 🙏💛\n\nWith love and gratitude\,\nThe Bamboo Being
 s 🎋\n\n\n\n\n\n\nGET TICKETS\n
ATTACH;FMTTYPE=image/jpeg:https://breathemiami.us/wp-content/uploads/2024/
 10/Meditacion-Solar-Sungazing.jpg
CATEGORIES:Wellness Events
LOCATION:300 N Beach Rd\, 300 North Beach Road\, Dania Beach\, Florida\, 33
 004\,  FL \, United States
X-APPLE-STRUCTURED-LOCATION;VALUE=URI;X-ADDRESS=300 North Beach Road\, Dani
 a Beach\, Florida\, 33004\,  FL \, United States;X-APPLE-RADIUS=100;X-TITL
 E=300 N Beach Rd:geo:0,0
END:VEVENT
BEGIN:VTIMEZONE
TZID:America/New_York
X-LIC-LOCATION:America/New_York
BEGIN:STANDARD
DTSTART:20241103T010000
TZOFFSETFROM:-0400
TZOFFSETTO:-0500
TZNAME:EST
END:STANDARD
END:VTIMEZONE
END:VCALENDAR