BEGIN:VCALENDAR
VERSION:2.0
PRODID:-//wp-events-plugin.com//7.2.3.1//EN
TZID:America/New_York
X-WR-TIMEZONE:America/New_York
BEGIN:VEVENT
UID:966@breathemiami.us
DTSTART;TZID=America/New_York:20241028T080000
DTEND;TZID=America/New_York:20241028T090000
DTSTAMP:20241003T021327Z
URL:https://breathemiami.us/events/max-meditation-monday/
SUMMARY:Max Meditation Monday
DESCRIPTION:Max Meditation Mondays offer a serene opportunity to explore th
 e power of the mind under the expert guidance of Dr. Trevor Petersen. This
  weekly session introduces participants to the Max Meditation System™\, 
 a powerful and transformative method designed to foster mental tranquility
  and inner peace.\n\nDeveloped by Gudni Gudnason\, founder of the Modern M
 ystery School\, the Max Meditation System™ combines ancient meditation t
 echniques from India and Tibet with modern psychological practices and Neu
 ro-Linguistic Programming (NLP). This unique blend creates an effective ap
 proach to reduce stress\, boost energy levels\, and enhance overall well-b
 eing.\n\nDr. Trevor Petersen\, a certified Max Meditation practitioner\, l
 eads the one-hour session where attendees are guided through a series of t
 echniques designed to bring deep relaxation and mental clarity. Participan
 ts will experience a release from physical\, emotional\, and mental tensio
 n\, allowing for a peaceful journey into a calm state of mind.\n\nThis med
 itation system not only helps reduce negative thoughts but also promotes s
 piritual insight\, offering a path to enhanced self-awareness and emotiona
 l balance. With Dr. Petersen’s skillful guidance\, attendees can expect 
 to experience a reduction in mental frustration and a deepened sense of in
 ner peace.\n\nStep into Max Meditation Mondays and unlock the tranquility 
 within. Whether you're new to meditation or a seasoned practitioner\, this
  class promises a restorative experience\, providing a gateway to a more p
 eaceful\, stress-free life.\n\nGET TICKETS\n
ATTACH;FMTTYPE=image/jpeg:https://breathemiami.us/wp-content/uploads/2024/
 10/Max-Meditation-Monday.jpg
CATEGORIES:Wellness Events
LOCATION:Align Your Vibes - Studio City\, 12457 Ventura Boulevard Unit 104\
 , Los Angeles\, California\, 91604\, CA\, United States
X-APPLE-STRUCTURED-LOCATION;VALUE=URI;X-ADDRESS=12457 Ventura Boulevard Uni
 t 104\, Los Angeles\, California\, 91604\, CA\, United States;X-APPLE-RADI
 US=100;X-TITLE=Align Your Vibes - Studio City:geo:0,0
END:VEVENT
BEGIN:VTIMEZONE
TZID:America/New_York
X-LIC-LOCATION:America/New_York
BEGIN:DAYLIGHT
DTSTART:20240310T030000
TZOFFSETFROM:-0500
TZOFFSETTO:-0400
TZNAME:EDT
END:DAYLIGHT
END:VTIMEZONE
END:VCALENDAR