BEGIN:VCALENDAR
VERSION:2.0
PRODID:-//wp-events-plugin.com//7.2.3.1//EN
TZID:America/New_York
X-WR-TIMEZONE:America/New_York
BEGIN:VEVENT
UID:1270@breathemiami.us
DTSTART;TZID=America/New_York:20250308T080000
DTEND;TZID=America/New_York:20250308T120000
DTSTAMP:20250218T034938Z
URL:https://breathemiami.us/events/manifest-with-nesli-a-transformative-ha
 lf-day-retreat-to-reshape-your-reality/
SUMMARY:Manifest with Nesli: A Transformative Half-Day Retreat to Reshape Y
 our Reality
DESCRIPTION:Date &amp\; Time: 8:00 AM - 12:00 PMLanguage: EnglishLocation: 
 79th Street Beach Entrance\, Miami Beach (North Shore Park)\nContribution 
 Options:\n\n\n 	General Admission: $45.00\n 	Open Contribution: Choose you
 r value\n\nThis immersive half-day retreat offers a unique opportunity to 
 release what no longer serves you and align with your highest vision for y
 our life. "Manifest with Nesli" is more than just a workshop—it’s a mu
 lti-sensory experience combining mindset-shifting techniques\, healing pra
 ctices\, and manifestation science to help you step into your best self.\n
 \nWhat to Expect:\n🔹 Life Wheel &amp\; Life Book Techniques – Guided 
 WorkbookBegin with a powerful reflection on essential life areas—health\
 , relationships\, and purpose. This structured approach will help identify
  what’s working\, what needs change\, and where you truly want to go.\n
 🔹 Hypnotic Visualization &amp\; Guided MeditationThrough deep visualiza
 tion techniques and guided hypnosis\, participants will plant subconscious
  seeds for transformation\, paving the way for lasting change.\n🔹 Breat
 hwork &amp\; Meridian TappingHarness the power of breath to release tensio
 n\, clear emotional blockages\, and restore energy on a cellular level. Ge
 ntle tapping on meridian pathways will further activate the body’s natur
 al healing processes.\n🔹 Healing Sound Bath ExperienceImmerse yourself 
 in the soothing vibrations of crystal and Tibetan bowls alongside other po
 werful instruments. These sound frequencies will deepen relaxation\, enhan
 ce meditation\, and elevate the entire experience.\n\nClosing Integration 
 Sound Bath\nThe retreat will conclude with a deeply restorative sound bath
 \, allowing participants to fully absorb their breakthroughs and align wit
 h newfound clarity. This final moment of stillness amplifies intentions\, 
 leaving attendees with a profound sense of peace and empowerment.\nStep in
 to a life-changing experience and manifest the reality you desire.🌿✨\
 n\n\nGET TICKETS\n
ATTACH;FMTTYPE=image/jpeg:https://breathemiami.us/wp-content/uploads/2025/
 02/Manifest-with-Nesli-A-Powerful-Half-Day-Retreat-to-Reshape-Your-Reality
 .avif
CATEGORIES:Wellness Events
LOCATION:79th Street\, North Shore Park Beach\, Miami\, Florida\, 33132\, F
 L\, United States
X-APPLE-STRUCTURED-LOCATION;VALUE=URI;X-ADDRESS=North Shore Park Beach\, Mi
 ami\, Florida\, 33132\, FL\, United States;X-APPLE-RADIUS=100;X-TITLE=79th
  Street:geo:0,0
END:VEVENT
BEGIN:VTIMEZONE
TZID:America/New_York
X-LIC-LOCATION:America/New_York
BEGIN:STANDARD
DTSTART:20241103T010000
TZOFFSETFROM:-0400
TZOFFSETTO:-0500
TZNAME:EST
END:STANDARD
END:VTIMEZONE
END:VCALENDAR