BEGIN:VCALENDAR
VERSION:2.0
PRODID:-//wp-events-plugin.com//7.2.3.1//EN
TZID:America/New_York
X-WR-TIMEZONE:America/New_York
BEGIN:VEVENT
UID:825@breathemiami.us
DTSTART;TZID=America/New_York:20240919T190000
DTEND;TZID=America/New_York:20240919T203000
DTSTAMP:20240907T024148Z
URL:https://breathemiami.us/events/lunar-yin-yoga/
SUMMARY:Lunar Yin Yoga
DESCRIPTION:Embrace a serene mid-week respite with Lunar Yin Yoga\, a uniqu
 e opportunity to reset\, breathe deeply\, and discover inner peace. Hosted
  by TODO Yoga and the Aya Wellness Collective\, this weekly gathering is d
 esigned to foster personal connection and community support.\n\nEvent Deta
 ils:\n\n 	Date &amp\; Time: Every Thursday\, from 7:00 PM to 8:30 PM\n 	Lo
 cation: Aya Wellness Collective\n\nWhat to Expect:\n\n 	Yin Yoga Postures:
  Engage in gentle\, restorative poses that cultivate deep relaxation and f
 lexibility.\n 	Calming Breath Exercises: Practice breathwork techniques to
  enhance mental clarity and emotional calm.\n 	Aromatherapy: Enjoy the soo
 thing effects of essential oils to elevate your sensory experience.\n 	Sup
 portive Hands-On Assists: Benefit from personalized guidance to deepen you
 r practice and align your body.\n 	Sound Healing: Immerse yourself in ther
 apeutic soundscapes that promote healing and tranquility.\n 	Guided Medita
 tion: Experience a guided journey to center your mind and spirit.\n 	Diver
 se Community: Connect with a supportive group of individuals\, ranging fro
 m seasoned practitioners to newcomers.\n\nAdditional Information:\n\n 	Yog
 a Mats: Feel free to bring your own mat\, or borrow one of ours.\n 	Attire
 : Wear comfortable clothing that allows for ease of movement.\n 	Parking: 
 Convenient parking is available behind the building.\n\nWhether you are a 
 long-time yogi or just beginning your journey\, Lunar Yin Yoga offers a we
 lcoming space for everyone to rejuvenate and reconnect. Join us for a coll
 ective reset and embrace a calming end to your week.\n\nGET TICKETS\n
ATTACH;FMTTYPE=image/jpeg:https://breathemiami.us/wp-content/uploads/2024/
 09/Lunar-Yin-Yoga.jpg
CATEGORIES:Mindfulness Events,Things To Do,Wellness Events
LOCATION:Aya Apothecary Spa\, 638 B Northwest 62nd Street \, Miami\, Florid
 a\, 33150\, United States\, United States
X-APPLE-STRUCTURED-LOCATION;VALUE=URI;X-ADDRESS=638 B Northwest 62nd Street
  \, Miami\, Florida\, 33150\, United States\, United States;X-APPLE-RADIUS
 =100;X-TITLE=Aya Apothecary Spa:geo:0,0
END:VEVENT
BEGIN:VTIMEZONE
TZID:America/New_York
X-LIC-LOCATION:America/New_York
BEGIN:DAYLIGHT
DTSTART:20240310T030000
TZOFFSETFROM:-0500
TZOFFSETTO:-0400
TZNAME:EDT
END:DAYLIGHT
END:VTIMEZONE
END:VCALENDAR