BEGIN:VCALENDAR
VERSION:2.0
PRODID:-//wp-events-plugin.com//7.2.3.1//EN
TZID:America/New_York
X-WR-TIMEZONE:America/New_York
BEGIN:VEVENT
UID:1185@breathemiami.us
DTSTART;TZID=America/New_York:20241114T173000
DTEND;TZID=America/New_York:20241123T223000
DTSTAMP:20241024T062255Z
URL:https://breathemiami.us/events/luminosa-a-festival-of-lights/
SUMMARY:Luminosa: A Festival of Lights
DESCRIPTION:Prepare to embark on a breathtaking journey through a fantastic
 al realm at Luminosa 2024\, where fairy tales and vibrant lights merge int
 o an unforgettable experience. This year's festival invites guests to wand
 er along an illuminated trail adorned with more than 100 exquisite light s
 culptures\, each one meticulously crafted by the talented hands of 150 ski
 lled artisans.\n\nAs attendees stroll through this enchanting wonderland\,
  they will encounter larger-than-life representations of beloved character
 s and scenes from classic stories\, illuminated in brilliant colors that d
 ance against the night sky. Each light sculpture is a testament to the art
 isans' creativity and dedication\, transforming the landscape into a magic
 al narrative that captivates the imagination.\n\nLuminosa offers more than
  just a visual feast\; it’s a celebration of artistry and community\, wh
 ere families can create lasting memories together. The festival also inclu
 des interactive installations and immersive experiences that invite visito
 rs to engage with the art in innovative ways\, ensuring that there is some
 thing for everyone to enjoy.\n\nAs guests navigate the dazzling displays\,
  they will be enveloped in an atmosphere of joy and wonder\, making it the
  perfect outing for people of all ages. From young children experiencing t
 he thrill of their favorite stories brought to life\, to adults reminiscin
 g about their childhoods\, Luminosa 2024 promises a magical evening that r
 esonates in the hearts of all who attend.\n\nDon't miss this unique opport
 unity to step into a world where art\, light\, and storytelling converge\,
  creating a spectacular celebration of creativity that will illuminate the
  season and spark the imagination of all who experience it.\n\nGET TICKETS
 \n
ATTACH;FMTTYPE=image/jpeg:https://breathemiami.us/wp-content/uploads/2024/
 10/Luminosa-A-Festival-of-Lights.webp
CATEGORIES:Things To Do
LOCATION:Jungle Island\, 1111 Parrot Jungle Tr\, Miami\, Florida\, 33132\, 
 FL\, United States
X-APPLE-STRUCTURED-LOCATION;VALUE=URI;X-ADDRESS=1111 Parrot Jungle Tr\, Mia
 mi\, Florida\, 33132\, FL\, United States;X-APPLE-RADIUS=100;X-TITLE=Jungl
 e Island:geo:0,0
END:VEVENT
BEGIN:VTIMEZONE
TZID:America/New_York
X-LIC-LOCATION:America/New_York
BEGIN:STANDARD
DTSTART:20241103T010000
TZOFFSETFROM:-0400
TZOFFSETTO:-0500
TZNAME:EST
END:STANDARD
END:VTIMEZONE
END:VCALENDAR