BEGIN:VCALENDAR
VERSION:2.0
PRODID:-//wp-events-plugin.com//7.2.3.1//EN
TZID:America/New_York
X-WR-TIMEZONE:America/New_York
BEGIN:VEVENT
UID:200@breathemiami.us
DTSTART;TZID=America/New_York:20240315T200000
DTEND;TZID=America/New_York:20240315T235900
DTSTAMP:20240908T112506Z
URL:https://breathemiami.us/events/love-and-padel-valentines-day-80s-night
 -extravaganza/
SUMMARY:Love and Padel: 80s Night Extravaganza
DESCRIPTION:The Experience\nWaitlist for Love and Padel: 80s Night Extravag
 anza\n\nRegister your interest for a Padel festival like no other! Join th
 e waitlist for a unique blend of nostalgic 80s flair\, glow-in-the-dark Pa
 del\, and surprise performances\, all under the ambiance of Key Biscayne.\
 n\n        #mc_embed_signup{background:#fff\; false\;clear:left\; font:14p
 x Helvetica\,Arial\,sans-serif\; width: 350px\;}        /* Add your own Ma
 ilchimp form style overrides in your site stylesheet or in this style bloc
 k.           We recommend moving this block and the preceding CSS link to 
 the HEAD of your HTML file. */\n\n\nJoin Our Waitlist\n* indicates require
 d\nEmail Address *\nFirst Name *\nLast Name *\nPhone Number *\n\n\n\n\n\n\
 n\n\n\n(function($) {window.fnames = new Array()\; window.ftypes = new Arr
 ay()\;fnames[0]='EMAIL'\;ftypes[0]='email'\;fnames[1]='FNAME'\;ftypes[1]='
 text'\;fnames[2]='LNAME'\;ftypes[2]='text'\;fnames[4]='PHONE'\;ftypes[4]='
 phone'\;fnames[5]='EVENT'\;ftypes[5]='text'\;fnames[3]='ADDRESS'\;ftypes[3
 ]='address'\;}(jQuery))\;var $mcj = jQuery.noConflict(true)\;\n\n\n&nbsp\;
 \n\nHighlights\n80s Sportswear Themed Party: Celebrate love with a throwba
 ck to the vibrant 80s era\, inspired by the legendary John McEnroe.\nGlow-
 in-the-Dark Padel Play: Experience Padel in a new light\, literally\, with
  our specially illuminated courts.\nRetro and Modern Beats: Groove to a mi
 x of classic 80s hits and contemporary love songs.\nSurprise Acts: Enjoy u
 nexpected performances and guest appearances in the spirit of love and cel
 ebration.\nEnchanting Venue: Key Biscayne provides the perfect picturesque
  backdrop for a night of romance and excitement.\nGeneral Info\n\n 	Date: 
 March 14th\n 	Time: Evening (specific time to be announced)\n 	Location: A
  stunning venue in Key Biscayne\n 	Age requirement: 21+ with valid ID\n 	D
 ress Code: Embrace the theme with 80s sportswear or your favorite Valentin
 e's attire\n\nDescription\nGet ready for a Valentine's Day unlike any othe
 r with "Love and Padel: 80s Night Extravaganza". Inspired by the iconic st
 yles and spirit of the 80s\, this event is the perfect blend of nostalgia\
 , sport\, and romance. Imagine playing Padel on glow-in-the-dark courts\, 
 dancing to the rhythm of 80s classics and today's love hits\, all in the c
 ompany of fellow enthusiasts and lovers. Whether you're a die-hard Padel f
 an\, a lover of the 80s\, or just looking for a unique way to celebrate Va
 lentine's Day\, this event is for you. Join our waitlist now to ensure you
  don't miss out on this extraordinary night of love\, sport\, and retro fu
 n at the beautiful Key Biscayne.\n\n&nbsp\;\n\n&nbsp\;
ATTACH;FMTTYPE=image/jpeg:https://breathemiami.us/wp-content/uploads/2023/
 12/Love-and-Padel-1.jpg
CATEGORIES:Things To Do
END:VEVENT
BEGIN:VTIMEZONE
TZID:America/New_York
X-LIC-LOCATION:America/New_York
BEGIN:DAYLIGHT
DTSTART:20240310T030000
TZOFFSETFROM:-0500
TZOFFSETTO:-0400
TZNAME:EDT
END:DAYLIGHT
END:VTIMEZONE
END:VCALENDAR