BEGIN:VCALENDAR
VERSION:2.0
PRODID:-//wp-events-plugin.com//7.2.3.1//EN
TZID:America/New_York
X-WR-TIMEZONE:America/New_York
BEGIN:VEVENT
UID:1390@breathemiami.us
DTSTART;TZID=America/New_York:20251108T190000
DTEND;TZID=America/New_York:20251108T234500
DTSTAMP:20251104T171522Z
URL:https://breathemiami.us/events/live-arts-miami-presents-aja-monet/
SUMMARY:Live Arts Miami Presents: Aja Monet
DESCRIPTION:\n\nLive Arts Miami Presents:\nAja Monet\nSurrealist Blues Post
  with full live band\n\nDates &amp\; Times:\n\n 	Saturday\, November 8th\,
  2025 at 7PM – 18+\n\nVenue:\nThe Ground\, Downtown Miami\nTICKETS HERE\
 n\n\n\n\n\n\n\n\n\n\n\nOn Friday\, November 8th\, 2025\, The Ground in 
 Miami welcomes poet\, lyricist\, and musician Aja Monet for an evening o
 f live performance with her full band. Known for her powerful presence and
  ability to merge poetry with music\, Aja creates performances that are bo
 th deeply personal and universally resonant. This special night will trans
 form the stage into a living canvas of words\, rhythm\, and melody — inv
 iting audiences into an experience that is at once cool\, retro\, and futu
 ristic.\n\nLocated in the heart of Downtown Miami\, The Ground sets the 
 perfect backdrop for Aja Monet’s visionary sound\, blending intimate atm
 osphere with the pulse of the city. Whether you are a longtime admirer of 
 her work or new to her artistry\, this is a rare opportunity to witness on
 e of today’s most compelling voices live in concert. Doors open at 7pm.\
 n\n\n\n\n\n\n\n\n\n\n\n\n\n\n\n\n\n\n\n\nABOUT AJA MONET\nAja Monet is a 
 poet\, lyricist\, and musician whose work bridges the worlds of literature
 \, music\, and social transformation. Hailed as one of the most important 
 poetic voices of her generation\, she became the youngest-ever winner of t
 he legendary Nuyorican Poets Café Grand Slam at just 19 years old. Her ar
 t is rooted in truth-telling\, memory\, and the collective power of imagin
 ation\, weaving together themes of love\, justice\, and liberation.\n\nIn 
 addition to her literary achievements\, Aja has toured internationally\, p
 erforming on stages across Europe\, the Caribbean\, and the U.S. She has c
 ollaborated with leading musicians and artists\, bringing her distinct voi
 ce to projects that push the boundaries of genre and form. Her latest work
  continues to explore the intersections of poetry and music\, creating per
 formances that are as moving as they are transformative.\n\nBased in Miami
 \, Aja Monet is also an organizer and educator committed to building commu
 nity through the arts. Her voice and vision resonate far beyond the stage\
 , reminding us of the enduring power of language\, song\, and collective i
 magination.\n\n\n\n
ATTACH;FMTTYPE=image/jpeg:https://breathemiami.us/wp-content/uploads/2025/
 10/AJA-1728-x-432-px-1500x430-1.png
CATEGORIES:Featured Events,Food &amp; Drink Events,Mindfulness
 Events,Music,Things To Do
LOCATION:The Ground\, Downtown Miami 34 NE 11th St\, Miami\, Florida\, 3313
 2\, FL\, United States
X-APPLE-STRUCTURED-LOCATION;VALUE=URI;X-ADDRESS=Downtown Miami 34 NE 11th S
 t\, Miami\, Florida\, 33132\, FL\, United States;X-APPLE-RADIUS=100;X-TITL
 E=The Ground:geo:0,0
END:VEVENT
BEGIN:VTIMEZONE
TZID:America/New_York
X-LIC-LOCATION:America/New_York
BEGIN:STANDARD
DTSTART:20251102T010000
TZOFFSETFROM:-0400
TZOFFSETTO:-0500
TZNAME:EST
END:STANDARD
END:VTIMEZONE
END:VCALENDAR