BEGIN:VCALENDAR
VERSION:2.0
PRODID:-//wp-events-plugin.com//7.2.3.1//EN
TZID:America/New_York
X-WR-TIMEZONE:America/New_York
BEGIN:VEVENT
UID:663@breathemiami.us
DTSTART;TZID=America/New_York:20240808T190000
DTEND;TZID=America/New_York:20240808T203000
DTSTAMP:20240804T075234Z
URL:https://breathemiami.us/events/lions-gate-portal-event-yin-yoga-sound-
 healing/
SUMMARY:Lion's Gate Portal Event - Yin Yoga & Sound Healing
DESCRIPTION:Embrace the transformative energies of the Lion’s Gate Portal
  with a special event dedicated to Yin Yoga and Sound Healing. This spirit
 ual gathering is designed to align your energies\, facilitate Kundalini aw
 akening\, and promote profound personal growth.\n\nEvent Highlights:\n\nKu
 ndalini Awakening: Experience the activation of Kundalini\, the dormant pr
 imal life force energy residing at the base of your spine. This awakening 
 journey will guide Kundalini energy to rise through your chakras\, followi
 ng the spinal column from the root to the crown chakra\, opening and activ
 ating each center along the way. This process enhances consciousness\, hea
 lth\, wellness\, and fosters a deep sense of oneness with the universe\, a
  state known as samadhi – the eighth and final limb in the eight-fold pa
 th of yoga.\n\nYin Yoga Session: Participate in a gentle Yin Yoga practice
 \, focusing on deep stretches and mindful breathing. This session aims to 
 release tension\, enhance flexibility\, and promote inner peace\, providin
 g the perfect environment for Kundalini energy to flow.\n\nSound Healing J
 ourney: Immerse yourself in the healing vibrations of sound therapy\, desi
 gned to balance your energy and facilitate deep relaxation. The resonant t
 ones of sound bowls and other instruments will guide you into a state of t
 ranquility and rejuvenation\, supporting the Kundalini awakening process.\
 n\nWhat to Expect:\n\n 	Spiritual Alignment: Connect with the powerful ene
 rgies of the Lion’s Gate Portal to enhance your spiritual journey and fa
 cilitate Kundalini awakening.\n 	Deep Relaxation: The combination of Yin Y
 oga and Sound Healing offers a holistic approach to relaxation and stress 
 relief\, creating an optimal state for energy flow.\n 	Personal Growth: Th
 is event supports your personal development\, helping you align with your 
 true self and aspirations\, and leading to a heightened state of conscious
 ness and well-being.\n\nJoin Us: Celebrate the Lion’s Gate Portal with u
 s and embark on a journey of inner alignment\, growth\, and Kundalini awak
 ening. Whether you’re an experienced practitioner or new to these practi
 ces\, this event welcomes all and promises a unique and enriching experien
 ce.\n\nAlign your energies\, awaken your inner divine\, and embrace the tr
 ansformative power of the Lion’s Gate Portal with Yin Yoga and Sound Hea
 ling. We look forward to sharing this sacred space with you!\n\nGET TICKET
 S\n
ATTACH;FMTTYPE=image/jpeg:https://breathemiami.us/wp-content/uploads/2024/
 08/Lions-Gate-Portal-Event-Yin-Yoga-Sound-Healing.jpg
CATEGORIES:Mindfulness Events,Things To Do,Wellness Events
LOCATION:Faena Hotel\, 3201 Collins Avenue\, Miami Beach\, FL\, 33140\, Uni
 ted States
X-APPLE-STRUCTURED-LOCATION;VALUE=URI;X-ADDRESS=3201 Collins Avenue\, Miami
  Beach\, FL\, 33140\, United States;X-APPLE-RADIUS=100;X-TITLE=Faena Hotel
 :geo:0,0
END:VEVENT
BEGIN:VTIMEZONE
TZID:America/New_York
X-LIC-LOCATION:America/New_York
BEGIN:DAYLIGHT
DTSTART:20240310T030000
TZOFFSETFROM:-0500
TZOFFSETTO:-0400
TZNAME:EDT
END:DAYLIGHT
END:VTIMEZONE
END:VCALENDAR