BEGIN:VCALENDAR
VERSION:2.0
PRODID:-//wp-events-plugin.com//7.2.3.1//EN
TZID:America/New_York
X-WR-TIMEZONE:America/New_York
BEGIN:VEVENT
UID:1203@breathemiami.us
DTSTART;TZID=America/New_York;VALUE=DATE:20241201
DTEND;TZID=America/New_York;VALUE=DATE:20241231
DTSTAMP:20241124T082145Z
URL:https://breathemiami.us/events/lightfall-by-studio-lemercier/
SUMMARY:Lightfall by Studio Lemercier
DESCRIPTION:Superblue Miami\, renowned as a hub for immersive and boundary-
 pushing art\, unveils its latest commission just in time for Miami Art Wee
 k: Lightfall by the visionary Studio Lemercier. This groundbreaking instal
 lation invites visitors to explore the intricate connections between human
  perception\, the natural world\, and the mathematical patterns that under
 pin reality. Through a dynamic interplay of light\, projections\, and mesm
 erizing ambient electronic music by acclaimed Mexican artist Murcof\, Ligh
 tfall crafts an evocative sensory journey that is both deeply introspectiv
 e and visually stunning.\n\nSet within Superblue Miami’s celebrated ongo
 ing exhibition\, Every Wall is a Door\, Lightfall joins an elite collectio
 n of works by globally renowned artists such as teamLAB\, Rafael Lozano-He
 mmer\, James Turrell\, and Es Devlin. Each installation in this exhibition
  transforms the ordinary into extraordinary\, encouraging viewers to chall
 enge conventional perspectives and step into a world where boundaries diss
 olve.\n\nStudio Lemercier’s Lightfall distinguishes itself by weaving sc
 ience and art into an immersive tapestry that reflects the rhythms of natu
 re. The installation employs cutting-edge projection mapping to create dyn
 amic visual patterns that seem to breathe and evolve\, echoing the mathema
 tical beauty found in natural phenomena such as fractals\, waveforms\, and
  the golden ratio. Accompanied by Murcof’s hypnotic soundscape\, the exp
 erience immerses guests in a tranquil yet awe-inspiring environment\, enco
 uraging them to reflect on the symbiotic relationship between humanity and
  the Earth.\n\nSuperblue’s innovative programming has solidified its rep
 utation as a must-visit destination for contemporary art lovers\, and Ligh
 tfall exemplifies its mission to push creative boundaries. Visitors are en
 couraged to lose themselves in this meditative space\, where technology an
 d artistic vision converge to spark moments of wonder and connection.\n\nA
 s a pivotal highlight of Miami Art Week\, Lightfall amplifies Superblue’
 s commitment to fostering dialogue about art\, perception\, and the enviro
 nment. Whether discovering this installation for the first time or revisit
 ing Every Wall is a Door with fresh eyes\, attendees can expect an unforge
 ttable journey into the luminous realms of imagination and reality.\n\nGET
  TICKETS\n
ATTACH;FMTTYPE=image/jpeg:https://breathemiami.us/wp-content/uploads/2024/
 11/Lightfall-by-Studio-Lemercier.webp
CATEGORIES:Things To Do
LOCATION:Superblue Miami\, 1101 NW 23rd St\, Miami\, Florida\, 33127\, Flor
 ida\, United States
X-APPLE-STRUCTURED-LOCATION;VALUE=URI;X-ADDRESS=1101 NW 23rd St\, Miami\, F
 lorida\, 33127\, Florida\, United States;X-APPLE-RADIUS=100;X-TITLE=Superb
 lue Miami:geo:0,0
END:VEVENT
BEGIN:VTIMEZONE
TZID:America/New_York
X-LIC-LOCATION:America/New_York
BEGIN:STANDARD
DTSTART:20241103T010000
TZOFFSETFROM:-0400
TZOFFSETTO:-0500
TZNAME:EST
END:STANDARD
END:VTIMEZONE
END:VCALENDAR