BEGIN:VCALENDAR
VERSION:2.0
PRODID:-//wp-events-plugin.com//7.2.3.1//EN
TZID:America/New_York
X-WR-TIMEZONE:America/New_York
BEGIN:VEVENT
UID:370@breathemiami.us
DTSTART;TZID=America/New_York:20240317T120000
DTEND;TZID=America/New_York:20240317T140000
DTSTAMP:20240308T221104Z
URL:https://breathemiami.us/events/liberate-your-inner-goddess-rejuvenatio
 n/
SUMMARY:Liberate Your Inner Goddess: Rejuvenation Journey \,Go Beyond Skin 
 Deep
DESCRIPTION:\nUnveiling Inner Light: A Journey of Spiritual and Skin Rejuve
 nation\nEmbark on a unique experience that blends inner healing and outer 
 radiance with Ananta Ripa Ajmera and KIAN beauticians. This 90-minute work
 shop delves into ancient wisdom and modern practices to help you achieve t
 rue rejuvenation.\nAyurvedic Secrets for Glowing Skin:\n\n\n 	Explore the 
 ancient science of Ayurveda\, where skin reflects your emotional well-bein
 g.\n 	Discover how emotions like anger and sadness can manifest on your sk
 in.\n 	Learn how true rejuvenation requires addressing the root cause - yo
 ur inner world.\n\nJourney with Maha Gauri\, the Goddess of Rejuvenation:\
 n\n\n 	Discover the powerful story of Maha Gauri\, the Indian goddess symb
 olizing inner strength and rejuvenation.\n 	Connect with Ananta Ripa Ajmer
 a's personal journey of healing and skin transformation.\n\nNourish Your B
 ody and Spirit:\n\n\n 	Receive a refreshing mini-facial to promote healthy
 \, glowing skin.\n 	Enjoy a relaxing chair massage to unwind and de-stress
 .\n 	Savor delicious refreshments to further enhance the experience.\n\nEm
 powerment for Lasting Transformation:\n\n\n 	Take home a signed copy of th
 e award-winning book\, The Way of the Goddess.\n 	Gain practical Ayurvedic
  practices to integrate into your daily life for lasting rejuvenation.\n 	
 Foster a sense of community and spiritual connection.\n\nMeet Your Guide: 
 Ananta Ripa Ajmera\nAnanta Ripa Ajmera is a renowned spiritual teacher and
  author\, best known for her work on Ayurveda and spiritual growth. With o
 ver 12 years of experience\, she empowers individuals to awaken their inne
 r power and achieve lasting peace.\nWho Should Attend?\nThis workshop is i
 deal for anyone seeking to:\n\n\n 	Improve their skin health and appearanc
 e naturally.\n 	Explore the connection between emotions and well-being.\n 
 	Discover practical tools for spiritual growth and inner peace.\n\nJoin th
 is transformative experience and unlock the power of inner and outer trans
 formation!\n[Include Event Details]\nEmbrace a holistic approach to rejuve
 nation and reclaim your radiant self!\nNote: This paraphrase condenses the
  original content while maintaining key information and focusing on the wo
 rkshop's benefits. It omits some biographical details about Ananta and emp
 hasizes the experiential and transformative aspects of the event.\n\n\n\nB
 UY TICKETS\n
ATTACH;FMTTYPE=image/jpeg:https://breathemiami.us/wp-content/uploads/2024/
 03/https___cdn.evbuc_.com_images_692615189_1982837497833_1_original.jpg
CATEGORIES:Wellness Events
LOCATION:400 S Dixie Hwy #3\, 400 South Dixie Highway #3 \, Hallandale Beac
 h\, Florida\, 33009 \, United States
X-APPLE-STRUCTURED-LOCATION;VALUE=URI;X-ADDRESS=400 South Dixie Highway #3 
 \, Hallandale Beach\, Florida\, 33009 \, United States;X-APPLE-RADIUS=100;
 X-TITLE=400 S Dixie Hwy #3:geo:0,0
END:VEVENT
BEGIN:VTIMEZONE
TZID:America/New_York
X-LIC-LOCATION:America/New_York
BEGIN:DAYLIGHT
DTSTART:20240310T030000
TZOFFSETFROM:-0500
TZOFFSETTO:-0400
TZNAME:EDT
END:DAYLIGHT
END:VTIMEZONE
END:VCALENDAR