BEGIN:VCALENDAR
VERSION:2.0
PRODID:-//wp-events-plugin.com//7.2.3.1//EN
TZID:America/New_York
X-WR-TIMEZONE:America/New_York
BEGIN:VEVENT
UID:786@breathemiami.us
DTSTART;TZID=America/New_York:20240901T130000
DTEND;TZID=America/New_York:20240901T200000
DTSTAMP:20240825T181223Z
URL:https://breathemiami.us/events/lazy-sunday-bbq/
SUMMARY:Lazy Sunday BBQ
DESCRIPTION:Kick back and savor the long weekend at the Lazy Sunday BBQ\, h
 osted by The Standard Spa in Miami Beach. This 21+ event\, perfect for tho
 se looking to unwind\, will take place on Sunday\, September 1\, beginning
  at 1:00 p.m.\n\nIndulge in a laid-back afternoon filled with mouthwaterin
 g BBQ delights\, refreshing drinks\, and a soundtrack of chill tunes that 
 set the perfect vibe for a relaxing day. Whether you're catching up with f
 riends or just enjoying some downtime\, this event promises a cozy\, caref
 ree atmosphere to celebrate Labor Day weekend in style.\n\nPlease note tha
 t access to the BBQ does not include entry to the pool\, so plan according
 ly for a sun-soaked\, food-filled day by the bay. Join us for a leisurely 
 Sunday that’s all about good company\, great food\, and taking it easy.\
 n\nGET TICKETS\n
ATTACH;FMTTYPE=image/jpeg:https://breathemiami.us/wp-content/uploads/2024/
 08/Lazy-Sunday-BBQ-1.jpg
CATEGORIES:Food &amp; Drink Events,Things To Do
LOCATION:The Standard Spa\, 40 Island Avenue Miami Beach\, Miami\, Florida\
 , 33139\, FL \, United States
X-APPLE-STRUCTURED-LOCATION;VALUE=URI;X-ADDRESS=40 Island Avenue Miami Beac
 h\, Miami\, Florida\, 33139\, FL \, United States;X-APPLE-RADIUS=100;X-TIT
 LE=The Standard Spa:geo:0,0
END:VEVENT
BEGIN:VTIMEZONE
TZID:America/New_York
X-LIC-LOCATION:America/New_York
BEGIN:DAYLIGHT
DTSTART:20240310T030000
TZOFFSETFROM:-0500
TZOFFSETTO:-0400
TZNAME:EDT
END:DAYLIGHT
END:VTIMEZONE
END:VCALENDAR