BEGIN:VCALENDAR
VERSION:2.0
PRODID:-//wp-events-plugin.com//7.2.3.1//EN
TZID:America/New_York
X-WR-TIMEZONE:America/New_York
BEGIN:VEVENT
UID:768@breathemiami.us
DTSTART;TZID=America/New_York:20240913T140000
DTEND;TZID=America/New_York:20240913T160000
DTSTAMP:20240825T094905Z
URL:https://breathemiami.us/events/latte-art-basics-miami/
SUMMARY:Latte Art Basics- Miami
DESCRIPTION:Are you enjoying delicious espresso but finding your milk froth
 ing skills lacking? Latte Art Basics - Miami is here to help elevate your 
 coffee game! This engaging\, hands-on workshop will guide participants thr
 ough the essential techniques for steaming milk\, working with various mil
 k alternatives\, and crafting beautiful latte art designs.\nWhat to Expect
 \n\n 	Milk Steaming Mastery: Learn the fundamentals of steaming milk to th
 e perfect temperature and texture\, ensuring a creamy\, smooth consistency
 .\n 	Alternative Milk Techniques: Discover how to effectively froth and st
 eam plant-based and alternative milks to achieve the same high-quality res
 ults.\n 	Latte Art Skills: Gain practical experience in pouring classic la
 tte art designs\, such as hearts\, rosettas\, and tulips\, to impress your
  friends and family.\n\nAdditional Perks\n\n 	Unlimited Drinks: Enjoy all 
 the lattes and cappuccinos you can drink during the class\, giving you amp
 le opportunity to practice and perfect your skills.\n 	Expert Instruction:
  The class will be conducted in-person by a skilled educator at a Counter 
 Culture Training Center. Ensure you register for the session at the specif
 ic training center you plan to attend.\n\nGet ready to get hands-on and im
 merse yourself in the art of coffee-making. This workshop is perfect for c
 offee enthusiasts looking to enhance their barista skills and bring a touc
 h of artistry to their daily coffee routine. Register today and transform 
 your coffee creations with professional latte art techniques!\n\nGET TICKE
 TS\n
ATTACH;FMTTYPE=image/jpeg:https://breathemiami.us/wp-content/uploads/2024/
 08/Latte-Art-Basics-Miami.jpg
CATEGORIES:Food &amp; Drink Events,Mindfulness Events,Things To Do
LOCATION:Counter Culture Coffee Miami\, 7450 N Miami Avenue Miami\, Miami\,
  Florida\, 33150\, FL \, United States
X-APPLE-STRUCTURED-LOCATION;VALUE=URI;X-ADDRESS=7450 N Miami Avenue Miami\,
  Miami\, Florida\, 33150\, FL \, United States;X-APPLE-RADIUS=100;X-TITLE=
 Counter Culture Coffee Miami:geo:0,0
END:VEVENT
BEGIN:VTIMEZONE
TZID:America/New_York
X-LIC-LOCATION:America/New_York
BEGIN:DAYLIGHT
DTSTART:20240310T030000
TZOFFSETFROM:-0500
TZOFFSETTO:-0400
TZNAME:EDT
END:DAYLIGHT
END:VTIMEZONE
END:VCALENDAR