BEGIN:VCALENDAR
VERSION:2.0
PRODID:-//wp-events-plugin.com//7.2.3.1//EN
TZID:America/New_York
X-WR-TIMEZONE:America/New_York
BEGIN:VEVENT
UID:656@breathemiami.us
DTSTART;TZID=America/New_York:20240813T110000
DTEND;TZID=America/New_York:20240813T114500
DTSTAMP:20240803T053920Z
URL:https://breathemiami.us/events/latin-dance-group-class/
SUMMARY:Latin Dance Group Class
DESCRIPTION:Get ready to dance the night away at our dynamic Latin Dance Gr
 oup Class\, held at 5138 Biscayne Boulevard\, Miami! This exciting event i
 s designed for dancers of all levels\, from beginners to experienced mover
 s\, and offers an opportunity to master the sizzling steps of popular Lati
 n dances.\nEvent Details:\n\n 	Location: 5138 Biscayne Boulevard\, Miami\n
  	What to Expect: Dive into the rhythms of Latin music as our expert instr
 uctors lead you through a range of vibrant dance styles including Cha Cha\
 , Rumba\, Samba\, and Jive. Whether you're looking to polish your existing
  skills or learn the basics\, this class provides a fun and energetic envi
 ronment for all.\n 	Expert Instruction: Benefit from the guidance of talen
 ted dance instructors who will break down each step and help you perfect y
 our technique. Their passion for Latin dance will inspire you and ensure y
 ou enjoy every moment of the class.\n 	Energetic Atmosphere: Feel the puls
 e of Latin rhythms as you immerse yourself in the music. This class promis
 es to be a lively and engaging experience\, perfect for those looking to a
 dd some rhythm and joy to their week.\n 	Social Experience: Meet fellow da
 nce enthusiasts and make new friends as you share in the joy of dancing. T
 he class provides a welcoming space where you can connect with others who 
 share your passion for Latin dance.\n 	What to Bring: Just bring your danc
 ing shoes and a willingness to have fun! No prior dance experience is nece
 ssary—just an eagerness to learn and move.\n\nJoin us for an unforgettab
 le evening of Latin dance where you can improve your skills\, enjoy the mu
 sic\, and experience the thrill of dancing with others. Reserve your spot 
 today and let the rhythms of Latin America guide your feet!\n\nGET TICKETS
 \n
ATTACH;FMTTYPE=image/jpeg:https://breathemiami.us/wp-content/uploads/2024/
 08/Latin-Dance-Class.jpg
CATEGORIES:Mindfulness Events,Things To Do,Wellness Events
LOCATION:Dance Flow Miami\, 5138 Biscayne Boulevard Miami\, Miami\, Fl\, 33
 137\, FL \, United States
X-APPLE-STRUCTURED-LOCATION;VALUE=URI;X-ADDRESS=5138 Biscayne Boulevard Mia
 mi\, Miami\, Fl\, 33137\, FL \, United States;X-APPLE-RADIUS=100;X-TITLE=D
 ance Flow Miami:geo:0,0
END:VEVENT
BEGIN:VTIMEZONE
TZID:America/New_York
X-LIC-LOCATION:America/New_York
BEGIN:DAYLIGHT
DTSTART:20240310T030000
TZOFFSETFROM:-0500
TZOFFSETTO:-0400
TZNAME:EDT
END:DAYLIGHT
END:VTIMEZONE
END:VCALENDAR