BEGIN:VCALENDAR
VERSION:2.0
PRODID:-//wp-events-plugin.com//7.2.3.1//EN
TZID:America/New_York
X-WR-TIMEZONE:America/New_York
BEGIN:VEVENT
UID:711@breathemiami.us
DTSTART;TZID=America/New_York:20240906T190000
DTEND;TZID=America/New_York:20240906T230000
DTSTAMP:20240814T073604Z
URL:https://breathemiami.us/events/laser-evening/
SUMMARY:Laser Evening
DESCRIPTION:Step into an unforgettable night of music and mesmerizing visua
 ls at Laser Evening! Experience the magic as iconic tunes come to life und
 er the dazzling laser light displays projected onto the Frost Planetarium'
 s expansive 67-foot dome. Whether you're a fan of The Beatles\, ready to g
 roove with Bob Marley\, or looking to party with Bad Bunny\, this event of
 fers a captivating blend of sound and light that will leave you in awe.\nW
 hat to Expect:\n\n 	Epic Music and Visuals: Immerse yourself in a sonic an
 d visual journey as legendary tracks from The Beatles\, Bob Marley\, Bad B
 unny\, and more are paired with stunning laser light shows. Each song is s
 ynchronized with vibrant\, dynamic laser graphics that enhance the music
 ’s energy and emotion\, creating a truly immersive experience.\n 	Gather
  Your Crew: Make it a night out with friends! Come early to secure your sp
 ot and enjoy the atmosphere before the show begins. The Frost Planetarium
 ’s Main Atrium will be open until 10 p.m.\, offering refreshments and li
 ght snacks for purchase to fuel your evening.\n 	Unique Atmosphere: Set be
 neath the dome of the planetarium\, the combination of iconic music and la
 ser visuals offers a one-of-a-kind experience\, blending technology\, art\
 , and entertainment. It’s not just a concert\; it’s a full sensory exp
 erience that engages both the ears and the eyes in a spectacular show.\n\n
 Why Attend?\nLaser Evening is more than just a night out—it's an opportu
 nity to relive some of the greatest hits in music history with an electrif
 ying twist. Perfect for music lovers\, visual art enthusiasts\, and anyone
  looking to enjoy a unique and immersive event\, this evening promises to 
 be a highlight of your week.\n\nDon't miss out on this electrifying fusion
  of sound and light. Gather your friends\, grab some snacks\, and get read
 y to be dazzled at Laser Evening under the stars of the Frost Planetarium 
 dome.\n\nGET TICKETS\n
ATTACH;FMTTYPE=image/jpeg:https://breathemiami.us/wp-content/uploads/2024/
 08/Laser-Evening.jpg
CATEGORIES:Featured Events
LOCATION:Phillip and Patricia Frost Museum of Science\, 1101 Biscayne Blvd\
 , Miami\, Florida\, 33132\,  FL \, United States
X-APPLE-STRUCTURED-LOCATION;VALUE=URI;X-ADDRESS=1101 Biscayne Blvd\, Miami\
 , Florida\, 33132\,  FL \, United States;X-APPLE-RADIUS=100;X-TITLE=Philli
 p and Patricia Frost Museum of Science:geo:0,0
END:VEVENT
BEGIN:VTIMEZONE
TZID:America/New_York
X-LIC-LOCATION:America/New_York
BEGIN:DAYLIGHT
DTSTART:20240310T030000
TZOFFSETFROM:-0500
TZOFFSETTO:-0400
TZNAME:EDT
END:DAYLIGHT
END:VTIMEZONE
END:VCALENDAR