BEGIN:VCALENDAR
VERSION:2.0
PRODID:-//wp-events-plugin.com//7.2.3.1//EN
TZID:America/New_York
X-WR-TIMEZONE:America/New_York
BEGIN:VEVENT
UID:1159@breathemiami.us
DTSTART;TZID=America/New_York:20241129T133000
DTEND;TZID=America/New_York:20241129T173000
DTSTAMP:20241023T112029Z
URL:https://breathemiami.us/events/labor-preparation-and-childbirth-classe
 s/
SUMMARY:Labor Preparation and Childbirth Classes
DESCRIPTION:This specialized childbirth preparation workshop is designed to
  equip expectant parents with the knowledge and confidence needed for labo
 r and birth\, whether at home\, in a hospital\, or at a birthing center. T
 he course covers essential information on navigating the challenges of lab
 or\, understanding birth choices\, and making informed decisions.\n\n 	Pre
 natal with Partner (includes CPR training): $335.00\n 	HypnoBirthing 5-cou
 rse series: $425.00 (group setting)\n 	Pre-registration is required to sec
 ure your spot.\n\nPrepare for your journey to parenthood with expert guida
 nce and support.\n\nGET TICKETS\n
ATTACH;FMTTYPE=image/jpeg:https://breathemiami.us/wp-content/uploads/2024/
 10/Labor-Preparation-and-Childbirth-Classes.jpg
CATEGORIES:Things To Do
LOCATION:401 Coral Way\, 401 Coral Way Coral Gables\, Miami\, Florida\, 331
 34\, FL\, United States
X-APPLE-STRUCTURED-LOCATION;VALUE=URI;X-ADDRESS=401 Coral Way Coral Gables\
 , Miami\, Florida\, 33134\, FL\, United States;X-APPLE-RADIUS=100;X-TITLE=
 401 Coral Way:geo:0,0
END:VEVENT
BEGIN:VTIMEZONE
TZID:America/New_York
X-LIC-LOCATION:America/New_York
BEGIN:STANDARD
DTSTART:20241103T010000
TZOFFSETFROM:-0400
TZOFFSETTO:-0500
TZNAME:EST
END:STANDARD
END:VTIMEZONE
END:VCALENDAR