BEGIN:VCALENDAR
VERSION:2.0
PRODID:-//wp-events-plugin.com//7.2.3.1//EN
TZID:America/New_York
X-WR-TIMEZONE:America/New_York
BEGIN:VEVENT
UID:866@breathemiami.us
DTSTART;TZID=America/New_York:20241019T093000
DTEND;TZID=America/New_York:20241019T103000
DTSTAMP:20240915T095840Z
URL:https://breathemiami.us/events/kundalini-yoga/
SUMMARY:Kundalini Yoga
DESCRIPTION:Kundalini Yoga is a profound practice designed to awaken the do
 rmant spiritual energy residing at the base of the spine. Through a combin
 ation of specialized exercises\, breath control techniques\, meditation\, 
 and chanting\, this ancient practice aims to elevate mental clarity\, phys
 ical vitality\, and spiritual development.\n\nIn both group settings and i
 ndividual sessions\, Kundalini Yoga offers tools to alleviate stress\, fac
 ilitate emotional healing\, and enhance overall well-being. It provides a 
 holistic approach to achieving balance and harmony\, helping practitioners
  connect more deeply with themselves and their inner potential.\n\nEmbark 
 on a journey of transformation with Kundalini Yoga. Join us for a revitali
 zing class where you will experience the powerful integration of mind\, bo
 dy\, and spirit. Whether you are new to the practice or a seasoned yogi\, 
 this session promises to enrich your life by tapping into the profound ene
 rgy within.\n\nGET TICKETS\n
ATTACH;FMTTYPE=image/jpeg:https://breathemiami.us/wp-content/uploads/2024/
 09/Kundalini-Yoga.jpg
CATEGORIES:Things To Do,Wellness Events,Yoga Events
LOCATION:Miami Ironside\, 7580 Northeast 4th Court Miami\, Miami\, Florida\
 , 33138\, FL\, United States
X-APPLE-STRUCTURED-LOCATION;VALUE=URI;X-ADDRESS=7580 Northeast 4th Court Mi
 ami\, Miami\, Florida\, 33138\, FL\, United States;X-APPLE-RADIUS=100;X-TI
 TLE=Miami Ironside:geo:0,0
END:VEVENT
BEGIN:VTIMEZONE
TZID:America/New_York
X-LIC-LOCATION:America/New_York
BEGIN:DAYLIGHT
DTSTART:20240310T030000
TZOFFSETFROM:-0500
TZOFFSETTO:-0400
TZNAME:EDT
END:DAYLIGHT
END:VTIMEZONE
END:VCALENDAR