BEGIN:VCALENDAR
VERSION:2.0
PRODID:-//wp-events-plugin.com//7.2.3.1//EN
TZID:America/New_York
X-WR-TIMEZONE:America/New_York
BEGIN:VEVENT
UID:944@breathemiami.us
DTSTART;TZID=America/New_York:20241017T093000
DTEND;TZID=America/New_York:20241017T103000
DTSTAMP:20241002T144138Z
URL:https://breathemiami.us/events/kundalini-yoga-2/
SUMMARY:Kundalini Yoga
DESCRIPTION:Kundalini Yoga is a powerful practice focused on unlocking the 
 spiritual energy that resides at the base of the spine. Through a combinat
 ion of specific exercises\, breath control techniques\, meditation\, and c
 hanting\, this ancient form of yoga aims to enhance mental clarity\, physi
 cal health\, and spiritual growth. Whether practiced in a group or individ
 ually\, Kundalini Yoga promotes stress reduction\, emotional healing\, and
  a deep sense of overall well-being.\n\nOur class is led by Indra Kaur\, a
  seasoned yogini and spiritual teacher with nearly two decades of experien
 ce. Her guidance brings ease and insight\, helping participants explore th
 e transformative power of Kundalini Yoga at their own pace.\n\nThis class 
 offers a profound opportunity to connect mind\, body\, and spirit\, rejuve
 nating your energy while fostering inner peace and balance. Whether you're
  a beginner or an experienced practitioner\, Indra’s approach makes the 
 practice accessible and rewarding for all.\n\nJoin us and embark on a jour
 ney of self-discovery\, unlocking your potential through the revitalizing 
 practice of Kundalini Yoga. Don’t miss this chance to elevate your well-
 being and awaken your spiritual energy!\n\nGET TICKETS\n
ATTACH;FMTTYPE=image/jpeg:https://breathemiami.us/wp-content/uploads/2024/
 10/Kundalini-Yoga.jpg
CATEGORIES:Yoga Events
LOCATION:Miami Ironside\, 7580 Northeast 4th Court\, Miami\, Florida\, 3313
 8\, FL\, United States
X-APPLE-STRUCTURED-LOCATION;VALUE=URI;X-ADDRESS=7580 Northeast 4th Court\, 
 Miami\, Florida\, 33138\, FL\, United States;X-APPLE-RADIUS=100;X-TITLE=Mi
 ami Ironside:geo:0,0
END:VEVENT
BEGIN:VTIMEZONE
TZID:America/New_York
X-LIC-LOCATION:America/New_York
BEGIN:DAYLIGHT
DTSTART:20240310T030000
TZOFFSETFROM:-0500
TZOFFSETTO:-0400
TZNAME:EDT
END:DAYLIGHT
END:VTIMEZONE
END:VCALENDAR