BEGIN:VCALENDAR
VERSION:2.0
PRODID:-//wp-events-plugin.com//7.2.3.1//EN
TZID:America/New_York
X-WR-TIMEZONE:America/New_York
BEGIN:VEVENT
UID:224@breathemiami.us
DTSTART;TZID=America/New_York:20231221T180000
DTEND;TZID=America/New_York:20231221T190000
DTSTAMP:20240218T004452Z
URL:https://breathemiami.us/events/kundalini-awakening-in-modern-om-bungal
 ow/
SUMMARY:Kundalini Awakening
DESCRIPTION:Event Information:\n\nUnlock the extraordinary potential within
  you as you discover the art of tapping into your Kundalini energy. In thi
 s transformative experience\, you will acquire the skills to access the in
 nate power of your Kundalini\, fostering a heightened spiritual connection
 \, increased vitality\, and an overall enhancement of well-being. The sess
 ion is crafted to guide you through a journey of self-discovery\, where th
 e potent energy of Kundalini becomes a catalyst for personal growth and ho
 listic transformation. Join us on a path that leads to an elevated state o
 f spiritual awareness\, vitality\, and well-being through the awakening of
  your inner energy.\n\nDate and Time:Thursday\, December 21 · 6 - 7pm EST
 \n\nAbout this event:\n\n 	Embark on a transformative journey of self-disc
 overy as you delve into the art of Kundalini Awakening. In this session\, 
 discover how to unlock the potent energy of your kundalini\, elevating you
 r spiritual connection\, vitality\, and overall well-being. Whether you're
  a seasoned practitioner or new to Kundalini practices\, this event offers
  a unique opportunity to explore and harness the power within.\n\nDuration
 : 1 hour\n\nTicket Information:\n\n 	Admission: Open to all\, no ticket re
 quired\n 	Donation: Contributions welcome to support the event experienceG
 ET TICKETS\n\n\nWorkout Session Details:\n\n\n 	Uncover the secrets of Kun
 dalini energy as you engage in a session designed to guide you towards a d
 eeper spiritual connection. Learn transformative techniques that enhance v
 itality and overall well-being. While the specific presenter is not mentio
 ned\, the session promises an exploration of Kundalini Awakening\, providi
 ng participants with practical insights and tools.\n\nEssentials to Bring:
 \n\n 	Comfortable Clothing: Wear loose\, comfortable attire suitable for m
 ovement and relaxation.\n 	Open Mind: Approach the session with an open mi
 nd and a willingness to explore the transformative potential of Kundalini 
 Awakening.\n\nParking Options:\n\n 	Convenient parking is available on-sit
 e at the Modern ŌM Bungalow\, ensuring a hassle-free entry into the world
  of Kundalini Awakening. Embrace the experience without the concern of par
 king logistics\, allowing you to focus on your spiritual journey.\n
ATTACH;FMTTYPE=image/jpeg:https://breathemiami.us/wp-content/uploads/2023/
 12/https___cdn.evbuc_.com_images_613245089_1145507310493_1_original-1.jpg
CATEGORIES:Wellness Events
LOCATION:Modern ŌM Bungalow\, 5020 Northeast 2nd Avenue\, Miami\, FL\, 331
 37\, United States
X-APPLE-STRUCTURED-LOCATION;VALUE=URI;X-ADDRESS=5020 Northeast 2nd Avenue\,
  Miami\, FL\, 33137\, United States;X-APPLE-RADIUS=100;X-TITLE=Modern ŌM 
 Bungalow:geo:0,0
END:VEVENT
BEGIN:VTIMEZONE
TZID:America/New_York
X-LIC-LOCATION:America/New_York
BEGIN:STANDARD
DTSTART:20231105T010000
TZOFFSETFROM:-0400
TZOFFSETTO:-0500
TZNAME:EST
END:STANDARD
END:VTIMEZONE
END:VCALENDAR