BEGIN:VCALENDAR
VERSION:2.0
PRODID:-//wp-events-plugin.com//7.2.3.1//EN
TZID:America/New_York
X-WR-TIMEZONE:America/New_York
BEGIN:VEVENT
UID:202@breathemiami.us
DTSTART;TZID=America/New_York:20231207T180000
DTEND;TZID=America/New_York:20231207T190000
DTSTAMP:20240218T004517Z
URL:https://breathemiami.us/events/kundalini-awakening-in-miami/
SUMMARY:Kundalini Awakening
DESCRIPTION:Event Information:\n\nUnlock the potential within as you discov
 er the art of tapping into your kundalini energy. Join us on a journey of 
 self-discovery where you will gain the knowledge and tools to harness the 
 power of your kundalini energy. Through this practice\, elevate your spiri
 tual connection\, enhance vitality\, and nurture overall well-being. Let t
 he ancient wisdom guide you towards a profound understanding of the transf
 ormative energy within\, opening doors to spiritual growth and a more vibr
 ant existence.\n\nDate and Time: Thursday\, December 7 · 6 - 7pm EST\n\nA
 bout this event:\n\n 	Join Bianca Abbott\, Holistic Nurse Practitioner\, K
 undalini Therapist\, and owner of LunaFast\, for a transformative Kundalin
 i Activation and Sound Healing session.\n 	Kundalini practices\, breathwor
 k\, and sound healing combine to activate life force and expand consciousn
 ess.\n 	Learn to harness the power of your kundalini energy to enhance spi
 ritual connection\, vitality\, and overall well-being.\n 	Bianca will guid
 e you on an inner journey to calm the mind\, connect with the heart\, and 
 release tensions\, fostering spiritual awakening and healing.\n 	The class
  may move to the yoga deck if weather permits.\n\nDuration: 1 hour\n\nTick
 et Information:\n\n 	Ticket Type: Mobile eTicket\n 	Registration Options: 
 Early Bird or General Admission\n\n\nGET TICKETS\n\n\nWorkout Session Deta
 ils:\n\n 	Facilitator: Bianca Abbott MSN\, ARNP\, FNP-BC\, best-selling au
 thor\, Transformational Wellness Coach\, and owner of LunaFast.\n 	Locatio
 n: Modern ŌM Bungalow.\n\nEssentials to Bring:\n\n 	Yoga mat\n 	Comfortab
 le clothing\n 	Refillable water bottle\n 	Open heart\n\nParking Options:\n
 \n 	Metered parking is available alongside the streets of Upper Buena Vist
 a on NE 2nd Avenue.\n 	Additional metered parking can be found on NE 50th 
 Terrace.\n
ATTACH;FMTTYPE=image/jpeg:https://breathemiami.us/wp-content/uploads/2023/
 12/https___cdn.evbuc_.com_images_613245089_1145507310493_1_original.jpg
CATEGORIES:Wellness Events
LOCATION:Modern ŌM Bungalow\, 5020 Northeast 2nd Avenue Miami\, FL 33137 U
 nited States\, Avenue Miami\, FL\, 33137\, United States
X-APPLE-STRUCTURED-LOCATION;VALUE=URI;X-ADDRESS=5020 Northeast 2nd Avenue M
 iami\, FL 33137 United States\, Avenue Miami\, FL\, 33137\, United States;
 X-APPLE-RADIUS=100;X-TITLE=Modern ŌM Bungalow:geo:0,0
END:VEVENT
BEGIN:VTIMEZONE
TZID:America/New_York
X-LIC-LOCATION:America/New_York
BEGIN:STANDARD
DTSTART:20231105T010000
TZOFFSETFROM:-0400
TZOFFSETTO:-0500
TZNAME:EST
END:STANDARD
END:VTIMEZONE
END:VCALENDAR