BEGIN:VCALENDAR
VERSION:2.0
PRODID:-//wp-events-plugin.com//7.2.3.1//EN
TZID:America/New_York
X-WR-TIMEZONE:America/New_York
BEGIN:VEVENT
UID:980@breathemiami.us
DTSTART;TZID=America/New_York:20241012T140000
DTEND;TZID=America/New_York:20241012T160000
DTSTAMP:20241003T102919Z
URL:https://breathemiami.us/events/krama-vinyasa-yoga-with-esteban-salazar
 /
SUMMARY:Krama Vinyasa Yoga with Esteban Salazar
DESCRIPTION:Krama Vinyasa Yoga with Esteban Salazar offers a dynamic and mi
 ndful approach to yoga\, emphasizing the art of sequencing and a deep\, in
 ward connection to the practice. In this class\, participants will experie
 nce a wide variety of poses\, each explored with attention to alignment an
 d biomechanics\, creating a practice that is both physically and mentally 
 enriching.\n\nKrama Yoga is about moving thoughtfully and purposefully\, a
 llowing each transition between poses to become a meditation in itself. Es
 teban’s teaching focuses on cultivating mindful movement and fostering a
  connection between the breath\, body\, and mind. Each session is designed
  to guide practitioners into the heart of their yoga journey\, helping the
 m build strength\, flexibility\, and awareness.\n\nThis Vinyasa-based prac
 tice is welcoming to all levels—whether you're a seasoned yogi or just b
 eginning your yoga exploration. Esteban provides a supportive space where 
 participants can deepen their practice\, develop greater body awareness\, 
 and enjoy the full benefits of yoga\, both on and off the mat.\n\nKrama Yo
 ga encourages practitioners to enjoy the process from the inside out\, cre
 ating a balance between effort and ease in each posture. Through Esteban
 ’s guidance\, the practice becomes an exploration of movement\, breath\,
  and presence.\n\nJoin Esteban Salazar for a transformative Krama Vinyasa 
 Yoga experience\, where you can discover new depths in your practice while
  enjoying the support of a welcoming community.\n\nGET TICKETS\n
ATTACH;FMTTYPE=image/jpeg:https://breathemiami.us/wp-content/uploads/2024/
 10/Krama-Vinyasa-Yoga-with-Esteban-Salazar.jpg
CATEGORIES:Yoga Events
LOCATION:Ayama Yoga & Healing Arts Center\, 2250 Northeast 163rd Street\, N
 orth Miami Beach\, Florida\, 33160\, FL\, United States
X-APPLE-STRUCTURED-LOCATION;VALUE=URI;X-ADDRESS=2250 Northeast 163rd Street
 \, North Miami Beach\, Florida\, 33160\, FL\, United States;X-APPLE-RADIUS
 =100;X-TITLE=Ayama Yoga & Healing Arts Center:geo:0,0
END:VEVENT
BEGIN:VTIMEZONE
TZID:America/New_York
X-LIC-LOCATION:America/New_York
BEGIN:DAYLIGHT
DTSTART:20240310T030000
TZOFFSETFROM:-0500
TZOFFSETTO:-0400
TZNAME:EDT
END:DAYLIGHT
END:VTIMEZONE
END:VCALENDAR