BEGIN:VCALENDAR
VERSION:2.0
PRODID:-//wp-events-plugin.com//7.2.3.1//EN
TZID:America/New_York
X-WR-TIMEZONE:America/New_York
BEGIN:VEVENT
UID:1301@breathemiami.us
DTSTART;TZID=America/New_York:20250404T190000
DTEND;TZID=America/New_York:20250404T203000
DTSTAMP:20250301T043832Z
URL:https://breathemiami.us/events/kirtan-mantra-music-bhakti-yoga-2/
SUMMARY:Kirtan\, Mantra Music\, Bhakti Yoga
DESCRIPTION:Radha &amp\; Benjamin invite participants to an unforgettable e
 vening of kirtan\, mantra music\, and bhakti yoga at State of Yoga in Miam
 i Beach. This event offers a chance to connect deeply with oneself and oth
 ers through the chanting of sacred mantras in a vibrant\, uplifting enviro
 nment.\nKirtan\, often seen as a musical sing-along\, is a participatory e
 xperience that combines mantra meditation and transformative music. Its gr
 owing popularity in the West highlights its therapeutic effects\, offering
  a remedy for isolation and stress. The essence of kirtan lies in sharing 
 and reciting mantras\, with no musical expertise or specific beliefs requi
 red to join.\nAbout Radha &amp\; Benjamin:Radha Krishna Lila\, originally 
 from Brazil\, and Benjamin Smielowitz from New York have been leading clas
 ses\, workshops\, and trainings together since 2010. Both trained under Sr
 i Dharma Mittra in New York\, and are also accomplished musicians. They’
 ve released three albums together\, blending their love for yoga and music
 .\nFollow them on Instagram:@radha_krishnalila@bens_smiles\nFor more detai
 ls\, visit lightrailyoga.com.\n\n\nGET TICKETS\n
ATTACH;FMTTYPE=image/jpeg:https://breathemiami.us/wp-content/uploads/2025/
 02/Kirtan-Mantra-Music-Bhakti-Yoga-1.avif
CATEGORIES:Yoga Events
LOCATION:State of Yoga\, 727 4th Stree\, Miami Beach\, Florida\, 33139\, FL
 \, United States
X-APPLE-STRUCTURED-LOCATION;VALUE=URI;X-ADDRESS=727 4th Stree\, Miami Beach
 \, Florida\, 33139\, FL\, United States;X-APPLE-RADIUS=100;X-TITLE=State o
 f Yoga:geo:0,0
END:VEVENT
BEGIN:VTIMEZONE
TZID:America/New_York
X-LIC-LOCATION:America/New_York
BEGIN:DAYLIGHT
DTSTART:20250309T030000
TZOFFSETFROM:-0500
TZOFFSETTO:-0400
TZNAME:EDT
END:DAYLIGHT
END:VTIMEZONE
END:VCALENDAR