BEGIN:VCALENDAR
VERSION:2.0
PRODID:-//wp-events-plugin.com//7.2.3.1//EN
TZID:America/New_York
X-WR-TIMEZONE:America/New_York
BEGIN:VEVENT
UID:927@breathemiami.us
DTSTART;TZID=America/New_York:20241006T070000
DTEND;TZID=America/New_York:20241006T120000
DTSTAMP:20240930T062225Z
URL:https://breathemiami.us/events/kipp-miami-womens-empowerment-5k-health
 -fair/
SUMMARY:KIPP Miami Women's Empowerment 5K + Health Fair
DESCRIPTION:Join us for the KIPP Miami Women’s Empowerment 5K—a transfo
 rmative event where fitness\, community\, and empowerment come together to
  uplift women and promote wellness in both body and mind. This isn’t jus
 t a race\; it’s a celebration of strength\, unity\, and shared purpose\,
  where every runner and walker supports one another toward achieving their
  personal best.\n\nWhether you're aiming to set a new record or simply enj
 oying the walk with friends\, the 5K is designed to motivate\, inspire\, a
 nd create a sense of togetherness. With a community of women cheering each
  other on every step of the way\, this event symbolizes the power and resi
 lience of women as they rise together. Let’s lace up\, move forward\, an
 d embrace the collective strength that makes us unstoppable!\nWomen’s Em
 powerment 5K\nTime: 7:00 AM - 9:30 AM\nKick off the day with an invigorati
 ng 5K Run/Walk\, open to all fitness levels. This inspiring race will have
  participants of all ages and backgrounds coming together to celebrate not
  only fitness but also resilience\, unity\, and empowerment.\nHealth Fair\
 nTime: 8:30 AM - Noon\nAfter the 5K\, dive into a world of wellness at the
  Community Health Fair. Explore free wellness screenings\, expert health a
 dvice\, interactive fitness sessions like spin classes and workout demos\,
  and much more. This vibrant event is the perfect opportunity to learn how
  to maintain a healthy\, balanced lifestyle and connect with local resourc
 es to support your overall well-being.\n\nThis event provides an empowerin
 g space for women to not only focus on their physical health but also fost
 er a sense of community\, growth\, and empowerment. Together\, we’ll ins
 pire each other to rise\, thrive\, and flourish!\n\nGET TICKETS\n
ATTACH;FMTTYPE=image/jpeg:https://breathemiami.us/wp-content/uploads/2024/
 09/KIPP-Miami-Womens-Empowerment-5K-Health-Fair.jpg
CATEGORIES:Things To Do,Wellness Events
LOCATION:3000 NW 110th St\, 3000 Northwest 110th Street\, Miami\, Florida\,
  33167\, FL\, United States
X-APPLE-STRUCTURED-LOCATION;VALUE=URI;X-ADDRESS=3000 Northwest 110th Street
 \, Miami\, Florida\, 33167\, FL\, United States;X-APPLE-RADIUS=100;X-TITLE
 =3000 NW 110th St:geo:0,0
END:VEVENT
BEGIN:VTIMEZONE
TZID:America/New_York
X-LIC-LOCATION:America/New_York
BEGIN:DAYLIGHT
DTSTART:20240310T030000
TZOFFSETFROM:-0500
TZOFFSETTO:-0400
TZNAME:EDT
END:DAYLIGHT
END:VTIMEZONE
END:VCALENDAR