BEGIN:VCALENDAR
VERSION:2.0
PRODID:-//wp-events-plugin.com//7.2.3.1//EN
TZID:America/New_York
X-WR-TIMEZONE:America/New_York
BEGIN:VEVENT
UID:1075@breathemiami.us
DTSTART;TZID=America/New_York:20241109T103000
DTEND;TZID=America/New_York:20241109T113000
DTSTAMP:20241013T115610Z
URL:https://breathemiami.us/events/kids-group-yoga-mindfulness-class/
SUMMARY:Kids group yoga & mindfulness class
DESCRIPTION:We’re thrilled to invite you and your little ones to a joyful
  and engaging yoga class at Self Sacred\, specially designed for children 
 ages 3 to 7! This class offers a playful environment where kids can explor
 e yoga\, mindfulness\, and self-discovery through fun activities.\n\nIn th
 is unique session\, we’re excited to introduce our new yoga instructor\,
  Vedi. Vedi will guide the children on a journey focused on community\, te
 amwork\, kindness\, and giving back—while also teaching them how these v
 alues positively impact their bodies and minds.\n\nThroughout the class\, 
 children will enjoy:\n\n 	Fun yoga poses\n 	Interactive games\n 	Art activ
 ities\n 	Literacy exercises\n 	Breathing techniques\n\nThese practices hel
 p the kids learn about themselves\, develop their emotional well-being\, a
 nd feel more connected to the world around them. Vedi will also teach simp
 le ways to practice kindness\, collaboration\, and self-care that children
  can apply in their everyday lives\, both at home and with friends.\n\nThi
 s class not only nurtures physical movement but also encourages emotional 
 and social growth\, helping kids build strong foundations of empathy and m
 indfulness that will benefit them for years to come.\n\nJoin us for a hear
 twarming experience that blends movement\, creativity\, and kindness in a 
 fun and meaningful way!\n\nGET TICKETS\n
ATTACH;FMTTYPE=image/jpeg:https://breathemiami.us/wp-content/uploads/2024/
 10/Kids-group-yoga-mindfulness-class.jpg
CATEGORIES:Yoga Events
LOCATION:Tropical Park\, 7900 Southwest 40th Street\, Miami\, Florida\, 331
 55\, FL\, United States
X-APPLE-STRUCTURED-LOCATION;VALUE=URI;X-ADDRESS=7900 Southwest 40th Street\
 , Miami\, Florida\, 33155\, FL\, United States;X-APPLE-RADIUS=100;X-TITLE=
 Tropical Park:geo:0,0
END:VEVENT
BEGIN:VTIMEZONE
TZID:America/New_York
X-LIC-LOCATION:America/New_York
BEGIN:STANDARD
DTSTART:20241103T010000
TZOFFSETFROM:-0400
TZOFFSETTO:-0500
TZNAME:EST
END:STANDARD
END:VTIMEZONE
END:VCALENDAR