BEGIN:VCALENDAR
VERSION:2.0
PRODID:-//wp-events-plugin.com//7.2.3.1//EN
TZID:America/New_York
X-WR-TIMEZONE:America/New_York
BEGIN:VEVENT
UID:841@breathemiami.us
DTSTART;TZID=America/New_York:20241019T140000
DTEND;TZID=America/New_York:20241019T190000
DTSTAMP:20240926T152030Z
URL:https://breathemiami.us/events/kiddo-ween-party-at-cityplace-doral/
SUMMARY:Kiddo-Ween Party at CityPlace Doral
DESCRIPTION:Get ready for a spooktacular time at the Kiddo-Ween Party\, an 
 exciting event hosted by Kiddos Magazine in collaboration with CityPlace D
 oral. This year's celebration promises to be a Halloween extravaganza for 
 families\, taking place on [specific date].\n\nThe Kiddo-Ween Party featur
 es a range of delightful activities designed for children of all ages. Kid
 s can enjoy safe trick-or-treating\, explore a vibrant Pumpkin Patch stati
 on\, and marvel at spooky decorations. The festivities kick off with a Cos
 tume Parade led by Bunny\, the beloved Kiddos mascot\, ensuring a memorabl
 e experience for all.\n\nIn addition to the parade\, the event offers a va
 riety of attractions including:\n\n 	Art Station: Creative fun for budding
  artists.\n 	Toddler Play Area: A safe space for the littlest guests to en
 joy.\n 	Petting Zoo: Hands-on interactions with friendly animals.\n 	Train
  Rides: A charming ride around the venue.\n 	Halloween Parade and Costume 
 Runway Show: A chance for kids to showcase their costumes.\n 	Hula Hoop Co
 ntest: Fun and energetic competition.\n 	Pet Costume Contest: Pets in cost
 ume get their moment to shine.\n 	Performances and Music: Live entertainme
 nt to keep everyone in high spirits.\n 	Giveaways and More: Exciting surpr
 ises and treats throughout the event.\n\nCityPlace Doral is a pet-friendly
  location\, and guests are encouraged to bring their furry friends. All pe
 ts should remain on a leash during the pet contest and throughout the even
 t.\n\nThe Kiddo-Ween Party is free and open to the public with registratio
 n via Eventbrite. Please note that some activities may have an additional 
 cover fee. By RSVPing\, attendees agree to receive weekly emails from Kidd
 os Magazine about upcoming events\, activities\, magazine releases\, and t
 hird-party promotions. Unsubscribing is available at any time.\n\nDon’t 
 miss out on this Halloween-themed adventure—register now and join the fu
 n at CityPlace Doral!\n\nGET TICKETS\n
ATTACH;FMTTYPE=image/jpeg:https://breathemiami.us/wp-content/uploads/2024/
 09/Kiddo-Ween-Party-at-CityPlace-Doral.jpg
CATEGORIES:Things To Do
LOCATION:CityPlace Doral\, 8300 Northwest 36th Street Doral\, Miami\, Flori
 da\, 33166\, FL\, United States
X-APPLE-STRUCTURED-LOCATION;VALUE=URI;X-ADDRESS=8300 Northwest 36th Street 
 Doral\, Miami\, Florida\, 33166\, FL\, United States;X-APPLE-RADIUS=100;X-
 TITLE=CityPlace Doral:geo:0,0
END:VEVENT
BEGIN:VTIMEZONE
TZID:America/New_York
X-LIC-LOCATION:America/New_York
BEGIN:DAYLIGHT
DTSTART:20240310T030000
TZOFFSETFROM:-0500
TZOFFSETTO:-0400
TZNAME:EDT
END:DAYLIGHT
END:VTIMEZONE
END:VCALENDAR