BEGIN:VCALENDAR
VERSION:2.0
PRODID:-//wp-events-plugin.com//7.2.3.1//EN
TZID:America/New_York
X-WR-TIMEZONE:America/New_York
BEGIN:VEVENT
UID:135@breathemiami.us
DTSTART;TZID=America/New_York:20231028T140000
DTEND;TZID=America/New_York:20231028T190000
DTSTAMP:20231014T191707Z
URL:https://breathemiami.us/events/kiddo-ween-halloween-party/
SUMMARY:Kiddo-Ween Halloween Party
DESCRIPTION:Are you in search of Halloween festivities suitable for the who
 le family? Kiddos Magazine and CityPlace Doral have joined forces to offer
  you an exciting and family-friendly Kiddo-Ween Halloween Party taking pla
 ce on Saturday\, October 28. This event promises a plethora of entertainin
 g and safe activities that will ensure your little ones have a memorable t
 ime.\n\nFrom a secure and delightful trick-or-treating experience to an en
 chanting Pumpkin Patch station\, captivating character appearances\, and e
 ven a spooky yet fun Photo Boo-th for capturing those delightful\, eerie e
 xpressions\, there's an array of engaging activities designed with kids in
  mind at this year's event. As part of the festivities\, an art station wi
 ll allow young artists to explore their creative talents\, a live band fro
 m the School of Rock Doral will provide a rocking soundtrack\, a Barbie-th
 emed play area will immerse kids in a world of imagination\, and a petting
  zoo will introduce them to some furry friends.\n\nThe celebration doesn't
  stop there – a costume runway show will showcase the little ones' Hallo
 ween finery\, a Hula Hoop contest will add an element of friendly competit
 ion\, a mesmerizing magic show will keep everyone spellbound\, and there w
 ill be live music to keep the atmosphere lively. To top it all off\, there
  will be exciting giveaways to make this event even more special. This Kid
 do-Ween Halloween Party is the ultimate destination for family-friendly Ha
 lloween fun that you won't want to miss.
ATTACH;FMTTYPE=image/jpeg:https://breathemiami.us/wp-content/uploads/2023/
 10/https___cdn.evbuc_.com_images_574805169_93773001071_1_original.jpg
LOCATION:CityPlace Doral\, 8300 Northwest 36th Street\, Doral\, Florida\, F
 L 33166\, United States
X-APPLE-STRUCTURED-LOCATION;VALUE=URI;X-ADDRESS=8300 Northwest 36th Street\
 , Doral\, Florida\, FL 33166\, United States;X-APPLE-RADIUS=100;X-TITLE=Ci
 tyPlace Doral:geo:0,0
END:VEVENT
BEGIN:VTIMEZONE
TZID:America/New_York
X-LIC-LOCATION:America/New_York
BEGIN:DAYLIGHT
DTSTART:20230312T030000
TZOFFSETFROM:-0500
TZOFFSETTO:-0400
TZNAME:EDT
END:DAYLIGHT
END:VTIMEZONE
END:VCALENDAR