BEGIN:VCALENDAR
VERSION:2.0
PRODID:-//wp-events-plugin.com//7.2.3.1//EN
TZID:America/New_York
X-WR-TIMEZONE:America/New_York
BEGIN:VEVENT
UID:742@breathemiami.us
DTSTART;TZID=America/New_York:20240829T194500
DTEND;TZID=America/New_York:20240829T214500
DTSTAMP:20240824T064722Z
URL:https://breathemiami.us/events/kap-life-force-kundalini-activation/
SUMMARY:KAP Life Force & Kundalini Activation
DESCRIPTION:Kundalini Activation\, also known as Life Force Activation\, of
 fers a profound form of energy work that can elevate states of consciousne
 ss and foster deep personal healing. This practice taps into the foundatio
 nal energy known as Kundalini\, which underpins both spiritual and biologi
 cal evolution. By clearing blockages within our mental\, emotional\, and e
 nergetic bodies\, Kundalini Activation paves the way for an expansive expe
 rience of bliss and joy.\n\nUnderstanding the Practice:\n\nKundalini Activ
 ation is a direct transmission of energy designed to awaken your innate Ku
 ndalini. This energy follows a natural and safe process\, adapting to your
  specific needs at any given moment. Unlike self-generated practices\, thi
 s process requires you to simply relax and be receptive. The energy work i
 nvolves surrender rather than will\, offering a unique opportunity for pro
 found healing\, elevated consciousness\, and deeper connections with onese
 lf and others.\n\nWhy Participate?\n\nActivated Kundalini can have transfo
 rmative effects on your well-being\, helping you return to your center and
  achieve a state of inner balance. Historically\, seekers have initiated K
 undalini processes to stimulate the ascent of this energy along the spine\
 , leading to spiritual awakening. The benefits of this practice include:\n
 \n 	Enhanced mental clarity and intuition\n 	Release of emotional trauma a
 nd stagnation\n 	Increased physical vitality and energy\n 	Deeper calmness
  and relaxation\n 	Reduced stress and anxiety\n 	Improved relationships\n 
 	A stronger connection to oneself and the world\n 	A heightened sense of o
 neness\, love\, and gratitude\n 	A natural\, uplifting feeling of joy\n\nW
 hat to Expect:\n\nDuring the session\, participants will lie down in a com
 fortable and quiet environment where they will not be disturbed. Soft musi
 c will play\, and the focus will be on surrendering and receiving the ener
 gy. The practice is designed to be gentle\, intelligent\, and supportive. 
 You may experience various sensations\, such as energetic movements\, the 
 feeling of static electricity around the body\, or visualizations of color
 s and shapes. Additionally\, you may release stored emotions or physical s
 ensations as the energy works through your system.\n\nThis experience is b
 est felt directly\, offering a transformative journey to rediscover your e
 ssence and align with your true self.\n\nGET TICKETS\n
ATTACH;FMTTYPE=image/jpeg:https://breathemiami.us/wp-content/uploads/2024/
 08/KAP-Life-Force-Kundalini-Activation-•-29-Aug-•-Awaken-Your-Potentia
 l.jpg
CATEGORIES:Mindfulness Events,Things To Do,Wellness Events
LOCATION:State of Yoga\, 727 4th Street Ground Level Miami Beach\, Miami\, 
 Florida\, 33139\, FL\, United States
X-APPLE-STRUCTURED-LOCATION;VALUE=URI;X-ADDRESS=727 4th Street Ground Level
  Miami Beach\, Miami\, Florida\, 33139\, FL\, United States;X-APPLE-RADIUS
 =100;X-TITLE=State of Yoga:geo:0,0
END:VEVENT
BEGIN:VTIMEZONE
TZID:America/New_York
X-LIC-LOCATION:America/New_York
BEGIN:DAYLIGHT
DTSTART:20240310T030000
TZOFFSETFROM:-0500
TZOFFSETTO:-0400
TZNAME:EDT
END:DAYLIGHT
END:VTIMEZONE
END:VCALENDAR