BEGIN:VCALENDAR
VERSION:2.0
PRODID:-//wp-events-plugin.com//7.2.3.1//EN
TZID:America/New_York
X-WR-TIMEZONE:America/New_York
BEGIN:VEVENT
UID:164@breathemiami.us
DTSTART;TZID=America/New_York:20231111T140000
DTEND;TZID=America/New_York:20231111T220000
DTSTAMP:20231202T221336Z
URL:https://breathemiami.us/events/jungle-magick-eduardo-castillo-live-con
 cert/
SUMMARY:Jungle Magick “Eduardo Castillo LIVE Concert”
DESCRIPTION:Come and join us for an extraordinary 1 Day Retreat Experience.
  We have an exceptional lineup of facilitators who will guide us on a prof
 ound primal exploration of our senses. We are thrilled to announce that ou
 r featured artist will be "Eduardo Castillo"\, accompanied by Gisselle Wor
 ld\, Eli Light\, Kaheal Head\, and Jared Bistrong! Throughout the day\, we
  will engage in breathwork\, yoga\, movement\, tribal drumming and dancing
 . The South Beach Sound Healing Orchestra will provide an immersive sound 
 healing experience\, while a Cacao Ceremony\, Ecstatic Dance\, Fire Show\,
  and a late-night waterfall video mapping show will also be part of the pr
 ogram. Remember to bring something to float on\, your bathing suit\, a tow
 el or blanket\, water\, and most importantly\, good vibes!\nThe schedule:\
 nLagoon Stage\n\n 	1pm doors open\n 	2pm DJ Kaheal\n 	4:00pm DJ Eli Light\
 n 	5:30pm Gisselle World (live)\n 	6:00pm Jared Bistrong and Sobe Sound he
 aling Orchestra\n\nCrystal Shala Stage\n\n 	2pm Willfly Breathwork (Stephi
  Wald)\n 	3pm Yoga ( Camimi )\n 	4:30pm KAP (kundalini\, activation proces
 s with Marialina\n\n&nbsp\;\nVilla Stage\n\n 	8pm Eduardo Castillo Live Co
 ncert\n 	Our Featured Artist is “Edwardo Castillo”\n\n&nbsp\;\n\nGET T
 ICKETS\n\n\nAbout Eduardo Castillo\n\nEduardo Castillo is an artist who va
 lues self-expression\, rediscovery\, and human connection. He adapts his p
 erformances to suit each environment\, creating a unique experience every 
 time. He has traveled far and wide\, seeking out new locations to call hom
 e for his concerts. No two shows are ever the same\, making each one a tru
 ly special experience.\n\nEduardo's Live shows use beautiful and powerful 
 sounds to take us on a journey from beginning to end. It starts slowly and
  calmly\, like a meditation\, as we explore our thoughts. Then\, the sound
 s get louder and we hear something new and familiar at the same time. We l
 et ourselves be taken by the music\, moving together in an improvised danc
 e. As the music continues\, we feel like anything is possible and we all s
 hare the same goal: to change the world with the power of sound. Everyone'
 s journey through this experience is unique.\n\nEduardo Castillo is a skil
 led musician who has learned a lot about the music industry and has been i
 nfluenced by his upbringing in South America and Europe. He knows a lot ab
 out music and can combine different types of music in his shows. Eduardo l
 ikes to keep things simple and natural while still using modern technology
  to enhance his music.\n\nEduardo's goal is to always tell a story from st
 art to finish. Every sound he makes has a significant purpose. His music i
 sn't just background noise\, it adds depth and variety. The music and his 
 live shows are like painting strokes on a canvas that\, once he's finished
 \, will look like a mix of reality and imagination. He's skilled at blendi
 ng the musical and technical aspects\, as well as the surreal and real.\n\
 n&nbsp\;\n\n\n\n
ATTACH;FMTTYPE=image/jpeg:https://breathemiami.us/wp-content/uploads/2023/
 10/https___cdn.evbuc_.com_images_589948239_497034509171_1_original.jpeg
CATEGORIES:Retreats Events,Things To Do,Wellness Events,Yoga Events
LOCATION:H'OM Miami\, 25100 SW 153rd ave \, Homestead\, Florida\, 33032\, U
 nited States
X-APPLE-STRUCTURED-LOCATION;VALUE=URI;X-ADDRESS=25100 SW 153rd ave \, Homes
 tead\, Florida\, 33032\, United States;X-APPLE-RADIUS=100;X-TITLE=H'OM Mia
 mi:geo:0,0
END:VEVENT
BEGIN:VTIMEZONE
TZID:America/New_York
X-LIC-LOCATION:America/New_York
BEGIN:STANDARD
DTSTART:20231105T010000
TZOFFSETFROM:-0400
TZOFFSETTO:-0500
TZNAME:EST
END:STANDARD
END:VTIMEZONE
END:VCALENDAR