BEGIN:VCALENDAR
VERSION:2.0
PRODID:-//wp-events-plugin.com//7.2.3.1//EN
TZID:America/New_York
X-WR-TIMEZONE:America/New_York
BEGIN:VEVENT
UID:510@breathemiami.us
DTSTART;TZID=America/New_York:20240614T220000
DTEND;TZID=America/New_York:20240614T233000
DTSTAMP:20240531T053910Z
URL:https://breathemiami.us/events/juneteenth-comedy-show/
SUMMARY:Juneteenth Comedy Show
DESCRIPTION:Mark your calendars and join the festivities at Villain Theater
  for the second annual Juneteenth Comedy Show. Hosted by producer Victoria
  Haig and director Noel Harris\, this event promises a memorable evening f
 illed with humor and entertainment.\n\nDiverse Performances\n\nThe night w
 ill feature a dynamic mix of performances\, including improv\, sketch come
 dy\, and dance numbers. Each act is designed to entertain and celebrate th
 e spirit of Juneteenth\, offering a unique blend of talent and creativity.
 \n\nStar-Studded Cast\n\nThe Juneteenth Comedy Show features a star-studde
 d cast\, including Felisha Noel\, Emmanuel Cureton\, Dominique Colas\, Ric
 hard Lewis\, Stevenson Cottiere\, Akeim George\, Stephen Rodriguez\, Benja
 min Germain\, Sipiwe Anderson\, Rutendo Chimbaru\, Amazon Gregoire\, and J
 ovanka Ravix\, promising an evening of unforgettable performances.\n\nUnfo
 rgettable Experience\n\nWith such a diverse and skilled cast\, the Junetee
 nth Comedy Show promises to deliver an evening of non-stop laughter and un
 forgettable moments. Celebrate this significant holiday with joy\, laughte
 r\, and community at Villain Theater.\n\nJoin the celebration and be part 
 of an event that honors Juneteenth through the power of comedy and perform
 ance.\n\nGET TICKETS\n
ATTACH;FMTTYPE=image/jpeg:https://breathemiami.us/wp-content/uploads/2024/
 05/Juneteenth-Comedy-Show.jpg
CATEGORIES:Mindfulness Events
LOCATION:Villain Theater\, 5865 Northeast 2nd Avenue Miami\, Miami\, Florid
 a\, 33137\,  FL \, United States
X-APPLE-STRUCTURED-LOCATION;VALUE=URI;X-ADDRESS=5865 Northeast 2nd Avenue M
 iami\, Miami\, Florida\, 33137\,  FL \, United States;X-APPLE-RADIUS=100;X
 -TITLE=Villain Theater:geo:0,0
END:VEVENT
BEGIN:VTIMEZONE
TZID:America/New_York
X-LIC-LOCATION:America/New_York
BEGIN:DAYLIGHT
DTSTART:20240310T030000
TZOFFSETFROM:-0500
TZOFFSETTO:-0400
TZNAME:EDT
END:DAYLIGHT
END:VTIMEZONE
END:VCALENDAR