BEGIN:VCALENDAR
VERSION:2.0
PRODID:-//wp-events-plugin.com//7.2.3.1//EN
TZID:America/New_York
X-WR-TIMEZONE:America/New_York
BEGIN:VEVENT
UID:591@breathemiami.us
DTSTART;TZID=America/New_York;VALUE=DATE:20240704
DTEND;TZID=America/New_York;VALUE=DATE:20240705
DTSTAMP:20240625T072032Z
URL:https://breathemiami.us/events/july-4th-celebration-gulfstream-park/
SUMMARY:July 4th Celebration - Gulfstream Park
DESCRIPTION:Celebrate Independence Day in style at Gulfstream Park with the
 ir annual Freedom Fest on Thursday\, July 4th. This all-day extravaganza p
 romises a diverse range of entertainment and activities for the whole fami
 ly to enjoy. Nestled on the border of Broward and Miami\, Gulfstream Park 
 has evolved into a premier entertainment complex\, offering something for 
 everyone.\n\nEntertainment and Activities:\n\nThe festivities kick off wit
 h world-class Thoroughbred racing throughout the afternoon\, ensuring raci
 ng enthusiasts can indulge in thrilling races and even participate in the 
 Fan Grab Giveaway. Families can delight in a variety of activities\, inclu
 ding face painting\, live entertainment\, and giveaways. The highlight of 
 the evening will be the spectacular trackside fireworks show\, lighting up
  the night sky in celebration of Independence Day.\n\nDiverse Dining Optio
 ns:\n\nAmidst the excitement\, Gulfstream Park offers an array of dining o
 ptions to satisfy every palate. The pavilion at Pegasus Park will be bustl
 ing with savory delights like burgers and other tempting treats\, ensuring
  guests have plenty of options to fuel their day of festivities.\n\nA Dest
 ination for Entertainment:\n\nGulfstream Park isn't just about the races\;
  it's a vibrant hub with a casino\, numerous restaurants\, and bars that c
 ater to every taste and preference. Whether you're drawn to the adrenaline
  of horse racing\, the thrill of gaming at the casino\, or simply enjoying
  a leisurely meal\, Gulfstream Park promises an immersive entertainment ex
 perience that can easily fill an entire day.\n\nJoin Gulfstream Park for t
 heir Freedom Fest on July 4th and immerse yourself in a day of excitement\
 , entertainment\, and community celebration. Whether you're cheering on yo
 ur favorite horse\, enjoying family activities\, or marveling at the firew
 orks\, Gulfstream Park offers the perfect setting to create lasting memori
 es this Independence Day. Discover why Gulfstream Park has become a must-v
 isit destination for entertainment seekers across South Florida.\n\nGET TI
 CKETS\n
ATTACH;FMTTYPE=image/jpeg:https://breathemiami.us/wp-content/uploads/2024/
 06/July-4th-Celebration-Gulfstream-Park.jpg
CATEGORIES:Sports &amp; Fitness Events,Things To Do
LOCATION:Gulfstream Park\, 800 Silks Run\, #1307\, Miami\, Florida\, 33009\
 , FL\, United States
X-APPLE-STRUCTURED-LOCATION;VALUE=URI;X-ADDRESS=800 Silks Run\, #1307\, Mia
 mi\, Florida\, 33009\, FL\, United States;X-APPLE-RADIUS=100;X-TITLE=Gulfs
 tream Park:geo:0,0
END:VEVENT
BEGIN:VTIMEZONE
TZID:America/New_York
X-LIC-LOCATION:America/New_York
BEGIN:DAYLIGHT
DTSTART:20240310T030000
TZOFFSETFROM:-0500
TZOFFSETTO:-0400
TZNAME:EDT
END:DAYLIGHT
END:VTIMEZONE
END:VCALENDAR