BEGIN:VCALENDAR
VERSION:2.0
PRODID:-//wp-events-plugin.com//7.2.3.1//EN
TZID:America/New_York
X-WR-TIMEZONE:America/New_York
BEGIN:VEVENT
UID:253@breathemiami.us
DTSTART;TZID=America/New_York:20231231T103000
DTEND;TZID=America/New_York:20231231T114500
DTSTAMP:20231227T202942Z
URL:https://breathemiami.us/events/jonah-kests-unique-vision-for-the-years
 -end/
SUMMARY:Align with the Cosmos: Jonah Kest's Unique Vision for the Year's En
 d
DESCRIPTION:Experience the transformative power of yoga with Jonah Kest at 
 the stunning Mayfair House Hotel &amp\; Garden in Miami. This unique event
  blends the serenity of yoga with the excitement of the New Year\, offerin
 g a 75-minute session led by renowned Nike Yoga teacher Jonah Kest. Embrac
 e the opportunity to realign your energy on the year’s final day. Get yo
 ur tickets now for a once-in-a-lifetime yoga journey with Jonah Kest. Join
  us as we align with the cosmos and welcome the New Year with intention an
 d tranquility.\n\nDate and Time: Sunday\, December 31 · 10:30 - 11:45 am 
 EST\n\nPRESENTED BY MODERN ŌM &amp\; BREATHE MIAMI\n\nModern ŌM has bee
 n connecting the community to world-class spiritual wellness programs sinc
 e 2016. Our offerings include 30+ Miami events monthly\, retreats\, traini
 ng\, online meditations via the Modern Medi Club\, and branded merchandise
 .\n\nConsider us your resource for spiritual wellness. We support an ever-
 evolving community of entrepreneurs\, professionals\, and creatives that p
 rioritize their spiritual well-being. Join us in Miami and beyond.\n\nTick
 et Information:\n\n        #mc_embed_signup{background:#fff\; false\;clear
 :left\; font:14px Helvetica\,Arial\,sans-serif\; width: 350px\;}        /*
  Add your own Mailchimp form style overrides in your site stylesheet or in
  this style block.           We recommend moving this block and the preced
 ing CSS link to the HEAD of your HTML file. */\n\n\nJoin Our Waitlist\n* i
 ndicates required\nEmail Address *\nFirst Name *\nLast Name *\nPhone Numbe
 r *\n\n\n\n\n\n\n\n\n\n(function($) {window.fnames = new Array()\; window.
 ftypes = new Array()\;fnames[0]='EMAIL'\;ftypes[0]='email'\;fnames[1]='FNA
 ME'\;ftypes[1]='text'\;fnames[2]='LNAME'\;ftypes[2]='text'\;fnames[4]='PHO
 NE'\;ftypes[4]='phone'\;fnames[5]='EVENT'\;ftypes[5]='text'\;fnames[3]='AD
 DRESS'\;ftypes[3]='address'\;}(jQuery))\;var $mcj = jQuery.noConflict(true
 )\;\n\n\n&nbsp\;\n\nWorkout Session Details:\n\n 	Type of Session: 75-minu
 te yoga class\n 	Intensity: Fun and challenging\n 	Instructor Bio: Jonah K
 est\, son of vinyasa yoga pioneer Jonny Kest\, known for an innovative tea
 ching approach and a show on Netflix.\n\nEssentials to Bring:\n\n 	Require
 d Items: Yoga mat\, refillable water bottle\n 	Recommended Attitude: An op
 en heart\n\nParking Options:\n\n 	\n\n\n\n\n\n\n\n\n\n 	Valet Parking: Ava
 ilable at Mayfair House\n 	Neighborhood Parking: Paid parking options in t
 he neighborhood\n\n\n\n\n\n\n\n\n\n\n\n\n\n\n\n\n\n\n\n
ATTACH;FMTTYPE=image/jpeg:https://breathemiami.us/wp-content/uploads/2023/
 12/https___cdn.evbuc_.com_images_660164699_1145507310493_1_original.jpg
CATEGORIES:Featured Events,Wellness Events,Yoga Events
LOCATION:Mayfair House Hotel & Garden\, 3000 Florida Avenue\, Miami\, FL\, 
 33133\, United States
X-APPLE-STRUCTURED-LOCATION;VALUE=URI;X-ADDRESS=3000 Florida Avenue\, Miami
 \, FL\, 33133\, United States;X-APPLE-RADIUS=100;X-TITLE=Mayfair House Hot
 el & Garden:geo:0,0
END:VEVENT
BEGIN:VTIMEZONE
TZID:America/New_York
X-LIC-LOCATION:America/New_York
BEGIN:STANDARD
DTSTART:20231105T010000
TZOFFSETFROM:-0400
TZOFFSETTO:-0500
TZNAME:EST
END:STANDARD
END:VTIMEZONE
END:VCALENDAR