BEGIN:VCALENDAR
VERSION:2.0
PRODID:-//wp-events-plugin.com//7.2.3.1//EN
TZID:America/New_York
X-WR-TIMEZONE:America/New_York
BEGIN:VEVENT
UID:1131@breathemiami.us
DTSTART;TZID=America/New_York:20241123T170000
DTEND;TZID=America/New_York:20241123T190000
DTSTAMP:20241023T062630Z
URL:https://breathemiami.us/events/jazzgiving-happy-hour/
SUMMARY:Jazzgiving Happy Hour
DESCRIPTION:Celebrate the spirit of Thanksgiving with an elegant evening of
  jazz\, culinary delights\, and fine drinks at BALEENkitchen's Jazzgiving 
 Happy Hour. Set in the chic\, sophisticated lounge of BALEENkitchen\, this
  event combines live jazz performances with a curated selection of delicio
 us bites and drinks to create the perfect start to your holiday festivitie
 s.\n\nFrom 5:00 to 7:00 PM\, unwind with a glass of craft beer or wine\, a
 nd enjoy passed appetizers specially crafted by the talented Chef Arturo\,
  renowned for his ability to blend seasonal flavors with an innovative cul
 inary touch. As you savor the food and drinks\, let the smooth sounds of l
 ive jazz elevate the atmosphere\, making it a night to remember.\nEvent De
 tails:\n\n 	Date: [Insert Date Here]\n 	Time: 5:00 PM - 7:00 PM\n 	Locatio
 n: BALEENkitchen\, in its stylish\, modern lounge\n 	Tickets: $55 per pers
 on\, includes appetizers and a selection of drinks\n\nThis event offers th
 e perfect opportunity to relax\, indulge\, and enjoy the company of friend
 s or loved ones before the Thanksgiving celebrations. Whether you're a jaz
 z enthusiast or simply looking for a cozy\, sophisticated evening\, Jazzgi
 ving Happy Hour promises a warm\, festive experience to set the tone for t
 he holiday season.\n\nSecure your tickets now and get ready for a night of
  exceptional music\, great food\, and holiday cheer at BALEENkitchen!\n\nG
 ET TICKETS\n
ATTACH;FMTTYPE=image/jpeg:https://breathemiami.us/wp-content/uploads/2024/
 10/Jazzgiving-Happy-Hour.jpg
CATEGORIES:Food &amp; Drink Events,Things To Do
LOCATION:BALEENkitchen\, Solé Miami 17315 Collins Ave. Sunny Isles Beach\,
  Miami\, Florida\, 33160\,  FL \, United States
X-APPLE-STRUCTURED-LOCATION;VALUE=URI;X-ADDRESS=Solé Miami 17315 Collins A
 ve. Sunny Isles Beach\, Miami\, Florida\, 33160\,  FL \, United States;X-A
 PPLE-RADIUS=100;X-TITLE=BALEENkitchen:geo:0,0
END:VEVENT
BEGIN:VTIMEZONE
TZID:America/New_York
X-LIC-LOCATION:America/New_York
BEGIN:STANDARD
DTSTART:20241103T010000
TZOFFSETFROM:-0400
TZOFFSETTO:-0500
TZNAME:EST
END:STANDARD
END:VTIMEZONE
END:VCALENDAR